BEGIN:VCALENDAR
VERSION:2.0
PRODID:-//Ringing Cedars of Russia USA + Canada | Anastasia Foundation - ECPv6.15.17.1//NONSGML v1.0//EN
CALSCALE:GREGORIAN
METHOD:PUBLISH
X-WR-CALNAME:Ringing Cedars of Russia USA + Canada | Anastasia Foundation
X-ORIGINAL-URL:https://anastasia.foundation
X-WR-CALDESC:Events for Ringing Cedars of Russia USA + Canada | Anastasia Foundation
REFRESH-INTERVAL;VALUE=DURATION:PT1H
X-Robots-Tag:noindex
X-PUBLISHED-TTL:PT1H
BEGIN:VTIMEZONE
TZID:America/Denver
BEGIN:DAYLIGHT
TZOFFSETFROM:-0700
TZOFFSETTO:-0600
TZNAME:MDT
DTSTART:20250309T090000
END:DAYLIGHT
BEGIN:STANDARD
TZOFFSETFROM:-0600
TZOFFSETTO:-0700
TZNAME:MST
DTSTART:20251102T080000
END:STANDARD
BEGIN:DAYLIGHT
TZOFFSETFROM:-0700
TZOFFSETTO:-0600
TZNAME:MDT
DTSTART:20260308T090000
END:DAYLIGHT
BEGIN:STANDARD
TZOFFSETFROM:-0600
TZOFFSETTO:-0700
TZNAME:MST
DTSTART:20261101T080000
END:STANDARD
BEGIN:DAYLIGHT
TZOFFSETFROM:-0700
TZOFFSETTO:-0600
TZNAME:MDT
DTSTART:20270314T090000
END:DAYLIGHT
BEGIN:STANDARD
TZOFFSETFROM:-0600
TZOFFSETTO:-0700
TZNAME:MST
DTSTART:20271107T080000
END:STANDARD
END:VTIMEZONE
BEGIN:VEVENT
DTSTART;TZID=America/Denver:20260315T110000
DTEND;TZID=America/Denver:20260315T140000
DTSTAMP:20260420T205103
CREATED:20260309T005955Z
LAST-MODIFIED:20260309T022224Z
UID:10001582-1773572400-1773583200@anastasia.foundation
SUMMARY:Sedona\, Arizona Reader's Meetup\, with Sarah
DESCRIPTION:️ Date: Sunday\, March 15\n⏰ Time: 11:00 AM – 2:00 PM (Local Time)\n Location: ChocolaTree Organic Eatery\, 1595 AZ-89A\, Sedona\, AZ 86336 (Google Maps directions) \nJoin us at ChocolaTree Organic Eatery in Sedona\, AZ for a live readers gathering! \nThis is a casual Meetup where you can connect with local Ringing Cedars readers in a relaxed atmosphere. It is a wonderful opportunity to meet like-minded souls and share in the spirit of the books. \n✅ Connect with local Ringing Cedars readers\n✅ Enjoy a casual\, live gathering\n✅ Meet at the beautiful ChocolaTree Organic Eatery \nWe look forward to seeing you there! \nEvent lead: Sarah Mitsuko — Telegram @Sarahmitsuko | contact@anastasia.foundation
URL:https://anastasia.foundation/event/october-12th-readers-gathering-at-sedona-arizona/
LOCATION:Chocolatree Organic Eatery\, 595 AZ-89A\, Sedona\, AZ 86336\, Sedona\, AZ\, United States
CATEGORIES:Regional Ambassador Events
ATTACH;FMTTYPE=image/jpeg:https://anastasiafoundation.b-cdn.net/wp-content/uploads/2025/09/sarah-meetup.jpg
ORGANIZER;CN="Sarah Mitsuko":MAILTO:arizona@anastasia.foundation
END:VEVENT
END:VCALENDAR