BEGIN:VCALENDAR
VERSION:2.0
PRODID:-//Ringing Cedars of Russia USA + Canada | Anastasia Foundation - ECPv6.15.17.1//NONSGML v1.0//EN
CALSCALE:GREGORIAN
METHOD:PUBLISH
X-ORIGINAL-URL:https://anastasia.foundation
X-WR-CALDESC:Events for Ringing Cedars of Russia USA + Canada | Anastasia Foundation
REFRESH-INTERVAL;VALUE=DURATION:PT1H
X-Robots-Tag:noindex
X-PUBLISHED-TTL:PT1H
BEGIN:VTIMEZONE
TZID:America/Vancouver
BEGIN:DAYLIGHT
TZOFFSETFROM:-0800
TZOFFSETTO:-0700
TZNAME:PDT
DTSTART:20240310T100000
END:DAYLIGHT
BEGIN:STANDARD
TZOFFSETFROM:-0700
TZOFFSETTO:-0800
TZNAME:PST
DTSTART:20241103T090000
END:STANDARD
BEGIN:DAYLIGHT
TZOFFSETFROM:-0800
TZOFFSETTO:-0700
TZNAME:PDT
DTSTART:20250309T100000
END:DAYLIGHT
BEGIN:STANDARD
TZOFFSETFROM:-0700
TZOFFSETTO:-0800
TZNAME:PST
DTSTART:20251102T090000
END:STANDARD
BEGIN:DAYLIGHT
TZOFFSETFROM:-0800
TZOFFSETTO:-0700
TZNAME:PDT
DTSTART:20260308T100000
END:DAYLIGHT
BEGIN:STANDARD
TZOFFSETFROM:-0700
TZOFFSETTO:-0800
TZNAME:PST
DTSTART:20261101T090000
END:STANDARD
END:VTIMEZONE
BEGIN:VEVENT
DTSTART;TZID=America/Vancouver:20250906T130000
DTEND;TZID=America/Vancouver:20250906T160000
DTSTAMP:20260421T065347
CREATED:20250823T222743Z
LAST-MODIFIED:20250825T025624Z
UID:10001540-1757163600-1757174400@anastasia.foundation
SUMMARY:Kin Beach\, Comox\, Vancouver Island — Reader's Gathering
DESCRIPTION:Sat September 6\, 2025\n⏰ 1-4 PM PST\nKin Beach Provincial Park\, 1712 Astra Rd\, Comox\, (Vancouver Island) BC V9M 4B7\, Canada (Google Maps directions) \nJoin us at Kin Beach in Comox for a live readers gathering! \nThis is a casual Meet & Greet\, where you connect with local Ringing Cedars readers by the ocean and mountains. \nBring your…\n– seeds for a seed exchange\n– dogs (friendly leashed dogs are welcome)\n– children \nSuggested items: picnic blanket or folding chair\, water\, snacks\, sun protection. \nEvent lead: Ariane Telishewsky — Telegram @arianeteli | vancouver@anastasia.foundation
URL:https://anastasia.foundation/event/kin-beach-comox-vancouver-island-readers-gathering/
LOCATION:Kin Beach\, Comox\, Vancouver Island\, B.C.\, 1712 Astra Rd\, Comox\, B.C.\, V9M 4B7\, Canada
CATEGORIES:Regional Ambassador Events
ATTACH;FMTTYPE=image/jpeg:https://anastasiafoundation.b-cdn.net/wp-content/uploads/2025/08/2.jpg
END:VEVENT
END:VCALENDAR