BEGIN:VCALENDAR
VERSION:2.0
PRODID:-//Ringing Cedars of Russia USA + Canada | Anastasia Foundation - ECPv6.15.17.1//NONSGML v1.0//EN
CALSCALE:GREGORIAN
METHOD:PUBLISH
X-WR-CALNAME:Ringing Cedars of Russia USA + Canada | Anastasia Foundation
X-ORIGINAL-URL:https://anastasia.foundation
X-WR-CALDESC:Events for Ringing Cedars of Russia USA + Canada | Anastasia Foundation
REFRESH-INTERVAL;VALUE=DURATION:PT1H
X-Robots-Tag:noindex
X-PUBLISHED-TTL:PT1H
BEGIN:VTIMEZONE
TZID:America/New_York
BEGIN:DAYLIGHT
TZOFFSETFROM:-0500
TZOFFSETTO:-0400
TZNAME:EDT
DTSTART:20240310T070000
END:DAYLIGHT
BEGIN:STANDARD
TZOFFSETFROM:-0400
TZOFFSETTO:-0500
TZNAME:EST
DTSTART:20241103T060000
END:STANDARD
BEGIN:DAYLIGHT
TZOFFSETFROM:-0500
TZOFFSETTO:-0400
TZNAME:EDT
DTSTART:20250309T070000
END:DAYLIGHT
BEGIN:STANDARD
TZOFFSETFROM:-0400
TZOFFSETTO:-0500
TZNAME:EST
DTSTART:20251102T060000
END:STANDARD
BEGIN:DAYLIGHT
TZOFFSETFROM:-0500
TZOFFSETTO:-0400
TZNAME:EDT
DTSTART:20260308T070000
END:DAYLIGHT
BEGIN:STANDARD
TZOFFSETFROM:-0400
TZOFFSETTO:-0500
TZNAME:EST
DTSTART:20261101T060000
END:STANDARD
END:VTIMEZONE
BEGIN:VEVENT
DTSTART;TZID=America/New_York:20250830T160000
DTEND;TZID=America/New_York:20250830T160000
DTSTAMP:20260421T094554
CREATED:20250823T230027Z
LAST-MODIFIED:20250825T025636Z
UID:10001541-1756569600-1756569600@anastasia.foundation
SUMMARY:Austin\, Texas — Reader's Gathering
DESCRIPTION:Sat August 30\, 2025\n⏰ 4 PM\nCasa de Luz Village\, 1701 Toomey Rd\, Austin\, TX 78704 (Google Maps directions) \nJoin us at Casa de Luz Village in Austin\, Texas for a live readers gathering! \nThis is a casual Meetup\, where you connect with local Ringing Cedars readers. \nEvent lead: Svetlana Semina — Telegram @Svetlanka8085 — Phone 15127387852 | contact@anastasia.foundation
URL:https://anastasia.foundation/event/austin-texas-readers-gathering/
LOCATION:Casa de Luz Village\, 1701 Toomey Rd.\, Austin\, TX\, 78704\, United States
CATEGORIES:Regional Ambassador Events
ATTACH;FMTTYPE=image/jpeg:https://anastasiafoundation.b-cdn.net/wp-content/uploads/2025/08/1.jpg
END:VEVENT
END:VCALENDAR