BEGIN:VCALENDAR
VERSION:2.0
PRODID:-//Ringing Cedars of Russia USA + Canada | Anastasia Foundation - ECPv6.15.17.1//NONSGML v1.0//EN
CALSCALE:GREGORIAN
METHOD:PUBLISH
X-ORIGINAL-URL:https://anastasia.foundation
X-WR-CALDESC:Events for Ringing Cedars of Russia USA + Canada | Anastasia Foundation
REFRESH-INTERVAL;VALUE=DURATION:PT1H
X-Robots-Tag:noindex
X-PUBLISHED-TTL:PT1H
BEGIN:VTIMEZONE
TZID:Europe/Zagreb
BEGIN:DAYLIGHT
TZOFFSETFROM:+0100
TZOFFSETTO:+0200
TZNAME:CEST
DTSTART:20240331T010000
END:DAYLIGHT
BEGIN:STANDARD
TZOFFSETFROM:+0200
TZOFFSETTO:+0100
TZNAME:CET
DTSTART:20241027T010000
END:STANDARD
BEGIN:DAYLIGHT
TZOFFSETFROM:+0100
TZOFFSETTO:+0200
TZNAME:CEST
DTSTART:20250330T010000
END:DAYLIGHT
BEGIN:STANDARD
TZOFFSETFROM:+0200
TZOFFSETTO:+0100
TZNAME:CET
DTSTART:20251026T010000
END:STANDARD
BEGIN:DAYLIGHT
TZOFFSETFROM:+0100
TZOFFSETTO:+0200
TZNAME:CEST
DTSTART:20260329T010000
END:DAYLIGHT
BEGIN:STANDARD
TZOFFSETFROM:+0200
TZOFFSETTO:+0100
TZNAME:CET
DTSTART:20261025T010000
END:STANDARD
END:VTIMEZONE
BEGIN:VTIMEZONE
TZID:America/Phoenix
BEGIN:STANDARD
TZOFFSETFROM:-0700
TZOFFSETTO:-0700
TZNAME:MST
DTSTART:20240101T000000
END:STANDARD
END:VTIMEZONE
BEGIN:VTIMEZONE
TZID:UTC
BEGIN:STANDARD
TZOFFSETFROM:+0000
TZOFFSETTO:+0000
TZNAME:UTC
DTSTART:20240101T000000
END:STANDARD
END:VTIMEZONE
BEGIN:VTIMEZONE
TZID:America/New_York
BEGIN:DAYLIGHT
TZOFFSETFROM:-0500
TZOFFSETTO:-0400
TZNAME:EDT
DTSTART:20240310T070000
END:DAYLIGHT
BEGIN:STANDARD
TZOFFSETFROM:-0400
TZOFFSETTO:-0500
TZNAME:EST
DTSTART:20241103T060000
END:STANDARD
BEGIN:DAYLIGHT
TZOFFSETFROM:-0500
TZOFFSETTO:-0400
TZNAME:EDT
DTSTART:20250309T070000
END:DAYLIGHT
BEGIN:STANDARD
TZOFFSETFROM:-0400
TZOFFSETTO:-0500
TZNAME:EST
DTSTART:20251102T060000
END:STANDARD
BEGIN:DAYLIGHT
TZOFFSETFROM:-0500
TZOFFSETTO:-0400
TZNAME:EDT
DTSTART:20260308T070000
END:DAYLIGHT
BEGIN:STANDARD
TZOFFSETFROM:-0400
TZOFFSETTO:-0500
TZNAME:EST
DTSTART:20261101T060000
END:STANDARD
END:VTIMEZONE
BEGIN:VTIMEZONE
TZID:Pacific/Honolulu
BEGIN:STANDARD
TZOFFSETFROM:-1000
TZOFFSETTO:-1000
TZNAME:HST
DTSTART:20240101T000000
END:STANDARD
END:VTIMEZONE
BEGIN:VEVENT
DTSTART;VALUE=DATE:20250723
DTEND;VALUE=DATE:20250724
DTSTAMP:20260421T094959
CREATED:20250716T031148Z
LAST-MODIFIED:20250716T033458Z
UID:10001535-1753228800-1753315199@anastasia.foundation
SUMMARY:July 23rd\, All Earth Holiday Celebration in Croatia\, Europe
DESCRIPTION:Come join us for the first reader’s meetup in Croatia in Eco village Blatuša! \nMy name is Tina Ivčević Pušić and I live in Croatia. ❤️ For now I’m just starting and planning a reader’s meet-up one day\, but my wish is to also create a European online book club once per month. ✨☀️ \nI’m looking forward to seeing everybody in Blatuša! It is a lovely village with lots of untouched nature\, located 70km away from Zagreb. \nThe meetup starts at 10h and lasts until the evening\, with the possibility to put up a tent and stay until the next morning. \n✅ What we do will depend on how we all feel. Some of the possibilities are: discussing the ideas from the books\, going for a swim to a nearby river\, singing and playing instruments and having an evening bonfire. \nThe idea of the meetup it to connect people from around Croatia and the nearby countries who want to live in love. The intention is to better connect with ourselves\, other people and the life energy itself. \nWhat to bring:\n– your best self ☀️\n– enough food for your stay\n– a swim suit\n– appropriate clothing for a hot summer day\n– if you want to stay until the morning of July 24\, bring a tent and sleeping equipment⛺️ \nPlease contact me @tinaivcevic (Telegram) if you plan to come. Sending love to you! ❤️
URL:https://anastasia.foundation/event/july-23rd-all-earth-holiday-celebration-in-croatia-europe/
LOCATION:Blatuša Croatia\, Blatuša\, Gvozd\, Croatia (Local Name: Hrvatska)
CATEGORIES:Europe,Regional Ambassador Events
ATTACH;FMTTYPE=image/jpeg:https://anastasiafoundation.b-cdn.net/wp-content/uploads/2025/07/photo_2025-07-16_01-17-58-e1752622018642.jpg
ORGANIZER;CN="Anastasia Foundation":MAILTO:hello@anastasiausa.land
END:VEVENT
BEGIN:VEVENT
DTSTART;TZID=America/Phoenix:20250723T110000
DTEND;TZID=America/Phoenix:20250723T140000
DTSTAMP:20260421T094959
CREATED:20250716T021329Z
LAST-MODIFIED:20250716T023409Z
UID:10001534-1753268400-1753279200@anastasia.foundation
SUMMARY:July 23rd\, All Earth Holiday Celebration in Arizona
DESCRIPTION:Hi everybody! \nI’m Sarah\, Arizona Ambassador\, and we will be having an All Earth Holiday Celebration and Potluck in Queen’s Valley\, AZ 11-2pm! \nAll Earth Holiday (Dachnik Day\Gardeners’ Day) is such a fun\, outdoorsy tradition — good food\, good company\, and a nod to simple\, rural pleasures. Since it’ll be hot between 11 am and 2 pm\, we gonna have some low-effort\, heat-friendly activities that suit the spirit of the day (gardening\, nature\, humor\, and old-world charm) while letting people stay somewhat cool. \nRemember to dress freely! 😉 \nRSVP by Telegram or Email sarahmitsuko@yahoo.com 928-862-8000 to receive the address. \nMore details here: https://t.me/+EnGJ8YVgAZ9hYmYx (Arizona RC Group in Telegram) \nSee you soon!
URL:https://anastasia.foundation/event/july-23rd-all-earth-holiday-celebration-in-arizona/
LOCATION:Private Residence RSVP\, United States
CATEGORIES:Reader's Meetups (Non-Foundation),Regional Ambassador Events
ATTACH;FMTTYPE=image/jpeg:https://anastasiafoundation.b-cdn.net/wp-content/uploads/2025/07/LOW-photo_2025-06-20_19-31-43-e1752618809342.jpg
ORGANIZER;CN="Anastasia Foundation":MAILTO:hello@anastasiausa.land
END:VEVENT
BEGIN:VEVENT
DTSTART;TZID=UTC:20250723T160000
DTEND;TZID=UTC:20250723T200000
DTSTAMP:20260421T094959
CREATED:20250716T044342Z
LAST-MODIFIED:20250716T044342Z
UID:10001539-1753286400-1753300800@anastasia.foundation
SUMMARY:July 23rd\, All Earth Holiday Celebration in Austin\, Texas
DESCRIPTION:All Earth Holiday Celebration in Austin\, Texas\, July 23rd\, 16-20pm CDT \nHi\, I am Svetlana\, Texas Regional Ambassador. \nWe will meet at Central Market 4001 N Lamar Blvd\, Austin under impressive oak tree and spend some time barefoot in a circle. Then we can go inside the market to a nice cafe. We are going to thank the Mother Earth for everything she gives us and have a nice conversation between like-minded people. \nI am looking forward to seeing everybody! \nYou can contact me on Telegram @Svetlanka8085 or 15127387852 \nLove! ❤️
URL:https://anastasia.foundation/event/july-23rd-all-earth-holiday-celebration-in-austin-texas/
LOCATION:Central Market 4001 N Lamar Blvd
CATEGORIES:Regional Ambassador Events
ATTACH;FMTTYPE=image/jpeg:https://anastasiafoundation.b-cdn.net/wp-content/uploads/2025/06/photo_2025-02-24_02-24-32-e1750196913273.jpg
ORGANIZER;CN="Anastasia Foundation":MAILTO:hello@anastasiausa.land
END:VEVENT
BEGIN:VEVENT
DTSTART;TZID=America/New_York:20250723T170000
DTEND;TZID=America/New_York:20250723T200000
DTSTAMP:20260421T094959
CREATED:20250716T034425Z
LAST-MODIFIED:20250716T034714Z
UID:10001536-1753290000-1753300800@anastasia.foundation
SUMMARY:July 23rd\, All Earth Holiday Celebration in Knoxville\, Tennessee
DESCRIPTION:All Earth Holiday Celebration in Knoxville\, Tennessee\, July 23rd\, 17-20pm EDT \nCelebrate All Earth Day with us at our home in south Knoxville on the evening of July 23rd! \nHi\, I’m Ruth\, Tennessee Regional Ambassador. \n‍♀️ We’ll have a group meditation outside near the garden (weather permitting\, inside if we must). I’ll provide clean and structured water for everyone alongside some light healthy snacks\, please do bring more food to share if you think you’ll be quite hungry. \nParking is a bit limited so if you can carpool that helps a lot! \nRSVP with Ruth for the exact address to readersoftennessee@gmail.com or\nt.me/ruth_1777 . See you all then\, dear friends!❤️
URL:https://anastasia.foundation/event/july-23rd-all-earth-holiday-celebration-in-knoxville-tennessee/
LOCATION:Private Residence RSVP\, United States
CATEGORIES:Regional Ambassador Events
ATTACH;FMTTYPE=image/jpeg:https://anastasiafoundation.b-cdn.net/wp-content/uploads/2025/07/july-23rd-gardener-day-all-earth-holiday-cut-e1752623201642.jpg
ORGANIZER;CN="Anastasia Foundation":MAILTO:hello@anastasiausa.land
END:VEVENT
BEGIN:VEVENT
DTSTART;TZID=Pacific/Honolulu:20250723T180000
DTEND;TZID=Pacific/Honolulu:20250723T200000
DTSTAMP:20260421T094959
CREATED:20250716T043836Z
LAST-MODIFIED:20250716T044333Z
UID:10001538-1753293600-1753300800@anastasia.foundation
SUMMARY:July 23rd\, All Earth Holiday Celebration on Kauai\, Hawaii
DESCRIPTION:All Earth Holiday Celebration on Kauai\, Hawaii\, July 23rd\, 18-20pm HST \nHi\, I am Lauren\, Hawaii Kauai Ambassador and lead of Ringing Cedars Singles group. \nLots of readers all over the world are planning to meet up on July 23rd for All Earth Holiday Celebration/ Dashnik’s Day / World Gardener’s Day / Vladimir’s bday! \nWe are meeting at Moloa’a Organica’a. We’ll be doing a farm-to-table pot luck then\, here on Kauai\, if anyone wants to join! \nContact me for more info @laurenchu (Telegram)
URL:https://anastasia.foundation/event/july-23rd-all-earth-holiday-celebration-hawaii/
LOCATION:Moloa’a Organica’a
CATEGORIES:Regional Ambassador Events
ATTACH;FMTTYPE=image/jpeg:https://anastasiafoundation.b-cdn.net/wp-content/uploads/2025/07/Hawaii-dachnik-day-all-earth-celebration-cut-e1752626460126.jpg
ORGANIZER;CN="Anastasia Foundation":MAILTO:hello@anastasiausa.land
END:VEVENT
END:VCALENDAR