BEGIN:VCALENDAR
VERSION:2.0
PRODID:-//Ringing Cedars of Russia USA + Canada | Anastasia Foundation - ECPv6.15.17.1//NONSGML v1.0//EN
CALSCALE:GREGORIAN
METHOD:PUBLISH
X-ORIGINAL-URL:https://anastasia.foundation
X-WR-CALDESC:Events for Ringing Cedars of Russia USA + Canada | Anastasia Foundation
REFRESH-INTERVAL;VALUE=DURATION:PT1H
X-Robots-Tag:noindex
X-PUBLISHED-TTL:PT1H
BEGIN:VTIMEZONE
TZID:America/Chicago
BEGIN:DAYLIGHT
TZOFFSETFROM:-0600
TZOFFSETTO:-0500
TZNAME:CDT
DTSTART:20240310T080000
END:DAYLIGHT
BEGIN:STANDARD
TZOFFSETFROM:-0500
TZOFFSETTO:-0600
TZNAME:CST
DTSTART:20241103T070000
END:STANDARD
BEGIN:DAYLIGHT
TZOFFSETFROM:-0600
TZOFFSETTO:-0500
TZNAME:CDT
DTSTART:20250309T080000
END:DAYLIGHT
BEGIN:STANDARD
TZOFFSETFROM:-0500
TZOFFSETTO:-0600
TZNAME:CST
DTSTART:20251102T070000
END:STANDARD
BEGIN:DAYLIGHT
TZOFFSETFROM:-0600
TZOFFSETTO:-0500
TZNAME:CDT
DTSTART:20260308T080000
END:DAYLIGHT
BEGIN:STANDARD
TZOFFSETFROM:-0500
TZOFFSETTO:-0600
TZNAME:CST
DTSTART:20261101T070000
END:STANDARD
END:VTIMEZONE
BEGIN:VEVENT
DTSTART;TZID=America/Chicago:20250622T160000
DTEND;TZID=America/Chicago:20250622T190000
DTSTAMP:20260421T113326
CREATED:20250618T014022Z
LAST-MODIFIED:20250618T014858Z
UID:10001531-1750608000-1750618800@anastasia.foundation
SUMMARY:June 22nd\, Summer Solstice Ringing Cedars Meetup in Austin\, Texas with Svetlana
DESCRIPTION:Hey\, inspired souls\, \nI’m Svetlana. I am a Russia-America Relationships Director at Anastasia foundation and a new Texas Ambassador. \nLet’s meet at a public community place at Casa de Luz Village\, Austin\, TX @16.00 pm CDT. We are going to celebrate Solstice and discuss the books. I am looking forward to seeing everybody! \nYou can contact me on Telegram @Svetlanka8085 or 15127387852 \nLove!\nSvetlana
URL:https://anastasia.foundation/event/june-22nd-ringing-cedars-meetup-in-austin-texas-with-svetlana-2/
LOCATION:Casa de Luz Village\, 1701 Toomey Rd.\, Austin\, TX\, 78704\, United States
CATEGORIES:Regional Ambassador Events
ATTACH;FMTTYPE=image/jpeg:https://anastasiafoundation.b-cdn.net/wp-content/uploads/2025/06/photo_2025-02-24_02-24-32-e1750196913273.jpg
ORGANIZER;CN="Anastasia Foundation":MAILTO:hello@anastasiausa.land
END:VEVENT
END:VCALENDAR