BEGIN:VCALENDAR
VERSION:2.0
PRODID:-//Ringing Cedars of Russia USA + Canada | Anastasia Foundation - ECPv6.15.17.1//NONSGML v1.0//EN
CALSCALE:GREGORIAN
METHOD:PUBLISH
X-WR-CALNAME:Ringing Cedars of Russia USA + Canada | Anastasia Foundation
X-ORIGINAL-URL:https://anastasia.foundation
X-WR-CALDESC:Events for Ringing Cedars of Russia USA + Canada | Anastasia Foundation
REFRESH-INTERVAL;VALUE=DURATION:PT1H
X-Robots-Tag:noindex
X-PUBLISHED-TTL:PT1H
BEGIN:VTIMEZONE
TZID:America/New_York
BEGIN:DAYLIGHT
TZOFFSETFROM:-0500
TZOFFSETTO:-0400
TZNAME:EDT
DTSTART:20240310T070000
END:DAYLIGHT
BEGIN:STANDARD
TZOFFSETFROM:-0400
TZOFFSETTO:-0500
TZNAME:EST
DTSTART:20241103T060000
END:STANDARD
BEGIN:DAYLIGHT
TZOFFSETFROM:-0500
TZOFFSETTO:-0400
TZNAME:EDT
DTSTART:20250309T070000
END:DAYLIGHT
BEGIN:STANDARD
TZOFFSETFROM:-0400
TZOFFSETTO:-0500
TZNAME:EST
DTSTART:20251102T060000
END:STANDARD
BEGIN:DAYLIGHT
TZOFFSETFROM:-0500
TZOFFSETTO:-0400
TZNAME:EDT
DTSTART:20260308T070000
END:DAYLIGHT
BEGIN:STANDARD
TZOFFSETFROM:-0400
TZOFFSETTO:-0500
TZNAME:EST
DTSTART:20261101T060000
END:STANDARD
END:VTIMEZONE
BEGIN:VEVENT
DTSTART;TZID=America/New_York:20250524T160000
DTEND;TZID=America/New_York:20250524T200000
DTSTAMP:20260421T131415
CREATED:20250505T234928Z
LAST-MODIFIED:20250505T235801Z
UID:10000729-1748102400-1748116800@anastasia.foundation
SUMMARY:May 24th\, Tennessee Ringing Cedars Readers gathering
DESCRIPTION:Greetings Dear Readers! \nJoin us for an evening of connection with other readers nearby in the beautiful healing garden space of two of our tribe! This will be a potluck gathering so please bring a dish to share! (Disposable ware and clean water provided). This time we come with the option of camping at our host’s private domain\, so please bring all your own gear if you wish to stay the night! \nTennessee Ringing Cedars Readers Gathering\nChattanooga\, TN\nMay 24\, 2025\n4-8pm \nRSVP with Ruth for the exact address.\nreadersoftennessee@gmail.com\nt.me/ruth_1777 \nGratitude for your bright thoughts\,\n-Ruth
URL:https://anastasia.foundation/event/may-24th-tennessee-ringing-cedars-readers-gathering/
LOCATION:Private Residence RSVP\, United States
CATEGORIES:Regional Ambassador Events
ATTACH;FMTTYPE=image/jpeg:https://anastasiafoundation.b-cdn.net/wp-content/uploads/2025/05/may-24-cut-1-e1746475050249.jpg
ORGANIZER;CN="Anastasia Foundation":MAILTO:hello@anastasiausa.land
END:VEVENT
END:VCALENDAR