BEGIN:VCALENDAR
VERSION:2.0
PRODID:-//Ringing Cedars of Russia USA + Canada | Anastasia Foundation - ECPv6.15.17.1//NONSGML v1.0//EN
CALSCALE:GREGORIAN
METHOD:PUBLISH
X-WR-CALNAME:Ringing Cedars of Russia USA + Canada | Anastasia Foundation
X-ORIGINAL-URL:https://anastasia.foundation
X-WR-CALDESC:Events for Ringing Cedars of Russia USA + Canada | Anastasia Foundation
REFRESH-INTERVAL;VALUE=DURATION:PT1H
X-Robots-Tag:noindex
X-PUBLISHED-TTL:PT1H
BEGIN:VTIMEZONE
TZID:America/Los_Angeles
BEGIN:DAYLIGHT
TZOFFSETFROM:-0800
TZOFFSETTO:-0700
TZNAME:PDT
DTSTART:20240310T100000
END:DAYLIGHT
BEGIN:STANDARD
TZOFFSETFROM:-0700
TZOFFSETTO:-0800
TZNAME:PST
DTSTART:20241103T090000
END:STANDARD
BEGIN:DAYLIGHT
TZOFFSETFROM:-0800
TZOFFSETTO:-0700
TZNAME:PDT
DTSTART:20250309T100000
END:DAYLIGHT
BEGIN:STANDARD
TZOFFSETFROM:-0700
TZOFFSETTO:-0800
TZNAME:PST
DTSTART:20251102T090000
END:STANDARD
BEGIN:DAYLIGHT
TZOFFSETFROM:-0800
TZOFFSETTO:-0700
TZNAME:PDT
DTSTART:20260308T100000
END:DAYLIGHT
BEGIN:STANDARD
TZOFFSETFROM:-0700
TZOFFSETTO:-0800
TZNAME:PST
DTSTART:20261101T090000
END:STANDARD
END:VTIMEZONE
BEGIN:VEVENT
DTSTART;TZID=America/Los_Angeles:20250504T180000
DTEND;TZID=America/Los_Angeles:20250504T200000
DTSTAMP:20260421T131320
CREATED:20250412T133515Z
LAST-MODIFIED:20250412T133515Z
UID:10000723-1746381600-1746388800@anastasia.foundation
SUMMARY:May 4th\, Southern California Ringing Cedars Online Meetup with Vladi
DESCRIPTION: SoCal Ringing Cedars Online Meetup – Sunday\, May 4th (Google Meet)\nCo-Create the Future of Kin Domains in California \n Date: Sunday\, May 4th\, 2025\n Time: 6 pm – 8 pm\n Location: Google Meet (link sent after RSVP) \n Ready to Bring the Dream of Kin Domains to Life in SoCal?\nWhether you’re already walking the path or just discovering the vision\, this online gathering is a place to connect\, get clarity\, and take action. We’re here to build momentum toward real Kin Domain Settlements (KDS) in Southern California—starting with dialogue\, collaboration\, and shared intention. \n What We’ll Explore Together:\n️ 1. Where Should We Co-Create?\n 2. What Can We Do Now\, Even in the City?\n\nLiving in an urban environment doesn’t mean we’re stuck—we’ll explore practical\, collective ways to support Kin Domain Settlements from wherever we are:\n\n3. Financing the Dream\n\nDeep-dive into funding models for our future Kin Domains:\n\n 4. Book Discussion: Controversial & Curious Parts\n\nLet’s talk about the passages that raise questions\, confuse us\, or challenge our beliefs—and seek clarity together.\nBring your favorite insights and your biggest “What does this mean?!” moments from the Ringing Cedars series.\n\n Ongoing Community & Planning\n\nDecide on the best schedule for regular online meetups\nPlan our next in-person gathering in the LA area\n\n✨ Who Is This For?\n✔️ Readers of the Ringing Cedars books ready to take action\n✔️ Urban dwellers seeking alignment with nature\n✔️ Anyone interested in Kin Domain Settlements\, regenerative living\, or community building in California\n✔️ People looking for real\, local connections and long-term vision \n✅ RSVP Now\n Google Meet link will be sent after registration.\nLet’s plant the seeds—wherever we are—and grow a future full of Spaces of Love.  \nQuestions? Reach out to vladiforest@gmail.com
URL:https://anastasia.foundation/event/may-4th-southern-california-ringing-cedars-online-meetup-with-vladi/
LOCATION:Google Meet
CATEGORIES:Community Calls,Regional Ambassador Events
ATTACH;FMTTYPE=image/jpeg:https://anastasiafoundation.b-cdn.net/wp-content/uploads/2025/04/March-30-South-california-Ringing-cedars.jpg
ORGANIZER;CN="Anastasia Foundation":MAILTO:hello@anastasiausa.land
END:VEVENT
END:VCALENDAR