BEGIN:VCALENDAR
VERSION:2.0
PRODID:-//Ringing Cedars of Russia USA + Canada | Anastasia Foundation - ECPv6.15.17.1//NONSGML v1.0//EN
CALSCALE:GREGORIAN
METHOD:PUBLISH
X-WR-CALNAME:Ringing Cedars of Russia USA + Canada | Anastasia Foundation
X-ORIGINAL-URL:https://anastasia.foundation
X-WR-CALDESC:Events for Ringing Cedars of Russia USA + Canada | Anastasia Foundation
REFRESH-INTERVAL;VALUE=DURATION:PT1H
X-Robots-Tag:noindex
X-PUBLISHED-TTL:PT1H
BEGIN:VTIMEZONE
TZID:America/Chicago
BEGIN:DAYLIGHT
TZOFFSETFROM:-0600
TZOFFSETTO:-0500
TZNAME:CDT
DTSTART:20240310T080000
END:DAYLIGHT
BEGIN:STANDARD
TZOFFSETFROM:-0500
TZOFFSETTO:-0600
TZNAME:CST
DTSTART:20241103T070000
END:STANDARD
BEGIN:DAYLIGHT
TZOFFSETFROM:-0600
TZOFFSETTO:-0500
TZNAME:CDT
DTSTART:20250309T080000
END:DAYLIGHT
BEGIN:STANDARD
TZOFFSETFROM:-0500
TZOFFSETTO:-0600
TZNAME:CST
DTSTART:20251102T070000
END:STANDARD
BEGIN:DAYLIGHT
TZOFFSETFROM:-0600
TZOFFSETTO:-0500
TZNAME:CDT
DTSTART:20260308T080000
END:DAYLIGHT
BEGIN:STANDARD
TZOFFSETFROM:-0500
TZOFFSETTO:-0600
TZNAME:CST
DTSTART:20261101T070000
END:STANDARD
END:VTIMEZONE
BEGIN:VEVENT
DTSTART;TZID=America/Chicago:20250223T150000
DTEND;TZID=America/Chicago:20250223T170000
DTSTAMP:20260421T180913
CREATED:20250122T233320Z
LAST-MODIFIED:20250219T012831Z
UID:10001520-1740322800-1740330000@anastasia.foundation
SUMMARY:Feb. 23rd\, Ringing Cedars Meetup in Austin\, Texas with Svetlana
DESCRIPTION:Hi\, I’m Svetlana.\nYou may know me as I am a Russia-America Relationships Director at Anastasia foundation. Some of you might have seen me at our online conferences “Russia-American Exchange”.\n\nI currently live in Austin\, Texas. I am happy to be a part of our beautiful movement and organize offline meetings for all the readers in Texas. I’m looking forward to hearing your inspiring stories and share my own experience of visiting and living at Russian Settlements. \n\n\nWe will have a potluck! Everyone can bring a healthy dish and share it along with their own story  See you! \n\nYou can contact me in Telegram @Svetlanka8085 or 15127387852
URL:https://anastasia.foundation/event/feb-22d-ringing-cedars-meetup-in-austin-texas-with-svetlana/
LOCATION:Zilker Park Polo Tables Picnic Area 2300 Andrew  Zilker Road\, Austin\, TX 78746\, Zilker Park Polo Tables Picnic Area2300 Andrew Zilker Road\, Austin\, TX 78746\, Austin\, TX\, United States
CATEGORIES:Regional Ambassador Events
ATTACH;FMTTYPE=image/jpeg:https://anastasiafoundation.b-cdn.net/wp-content/uploads/2025/01/svetlana-texas.jpg
ORGANIZER;CN="Anastasia Foundation":MAILTO:hello@anastasiausa.land
END:VEVENT
END:VCALENDAR