BEGIN:VCALENDAR
VERSION:2.0
PRODID:-//Ringing Cedars of Russia USA + Canada | Anastasia Foundation - ECPv6.15.17.1//NONSGML v1.0//EN
CALSCALE:GREGORIAN
METHOD:PUBLISH
X-WR-CALNAME:Ringing Cedars of Russia USA + Canada | Anastasia Foundation
X-ORIGINAL-URL:https://anastasia.foundation
X-WR-CALDESC:Events for Ringing Cedars of Russia USA + Canada | Anastasia Foundation
REFRESH-INTERVAL;VALUE=DURATION:PT1H
X-Robots-Tag:noindex
X-PUBLISHED-TTL:PT1H
BEGIN:VTIMEZONE
TZID:America/Denver
BEGIN:DAYLIGHT
TZOFFSETFROM:-0700
TZOFFSETTO:-0600
TZNAME:MDT
DTSTART:20240310T090000
END:DAYLIGHT
BEGIN:STANDARD
TZOFFSETFROM:-0600
TZOFFSETTO:-0700
TZNAME:MST
DTSTART:20241103T080000
END:STANDARD
BEGIN:DAYLIGHT
TZOFFSETFROM:-0700
TZOFFSETTO:-0600
TZNAME:MDT
DTSTART:20250309T090000
END:DAYLIGHT
BEGIN:STANDARD
TZOFFSETFROM:-0600
TZOFFSETTO:-0700
TZNAME:MST
DTSTART:20251102T080000
END:STANDARD
BEGIN:DAYLIGHT
TZOFFSETFROM:-0700
TZOFFSETTO:-0600
TZNAME:MDT
DTSTART:20260308T090000
END:DAYLIGHT
BEGIN:STANDARD
TZOFFSETFROM:-0600
TZOFFSETTO:-0700
TZNAME:MST
DTSTART:20261101T080000
END:STANDARD
END:VTIMEZONE
BEGIN:VEVENT
DTSTART;TZID=America/Denver:20250222T100000
DTEND;TZID=America/Denver:20250222T160000
DTSTAMP:20260421T180240
CREATED:20250115T022705Z
LAST-MODIFIED:20250115T035451Z
UID:10001519-1740218400-1740240000@anastasia.foundation
SUMMARY:Feb. 22d.\, RC Meetup in Arizona\, Sedona\, at Chocolatree Organic Eatery
DESCRIPTION:Hi\, I am Sarah\, I am a new Arizona Regional Amabassador. It is really exciting and inspiring\, I’m looking forward to helping people in my area connect with one another! \nFor a long time I’ve been waiting for someone organize this\, I didn’t know that this whole time I was the someone I was waiting for! Thanks so much for encouraging me toward this 🙂 \nA couple of years ago I got my land and started working on it. I took a trip to Russia\, where I lived for about a year. There I visited the Dolmens and several Kin’s Domain Settlements. If you would like to read more about that adventure you can at www.myrussiaadventure.wordpress.com \nThe woman who introduced me to the Ringing Cedars about 10 years ago owns a restaurant in Sedona with a beautiful Anastasia Inspired Garden. It’s a great place to meet and chat. I’m really excited! See you there! \nContact details: Sarahmitsuko@yahoo.com 928-862-8000
URL:https://anastasia.foundation/event/feb-22d-rc-meetup-in-arizona-sedona-at-chocolatree-organic-eatery/
LOCATION:Chocolatree Organic Eatery\, 595 AZ-89A\, Sedona\, AZ 86336\, Sedona\, AZ\, United States
CATEGORIES:Regional Ambassador Events
ATTACH;FMTTYPE=image/jpeg:https://anastasiafoundation.b-cdn.net/wp-content/uploads/2025/01/chocolatree-organic-eatery-sarah.jpg
ORGANIZER;CN="Anastasia Foundation":MAILTO:hello@anastasiausa.land
END:VEVENT
END:VCALENDAR