BEGIN:VCALENDAR
VERSION:2.0
PRODID:-//Ringing Cedars of Russia USA + Canada | Anastasia Foundation - ECPv6.15.17.1//NONSGML v1.0//EN
CALSCALE:GREGORIAN
METHOD:PUBLISH
X-ORIGINAL-URL:https://anastasia.foundation
X-WR-CALDESC:Events for Ringing Cedars of Russia USA + Canada | Anastasia Foundation
REFRESH-INTERVAL;VALUE=DURATION:PT1H
X-Robots-Tag:noindex
X-PUBLISHED-TTL:PT1H
BEGIN:VTIMEZONE
TZID:America/Los_Angeles
BEGIN:DAYLIGHT
TZOFFSETFROM:-0800
TZOFFSETTO:-0700
TZNAME:PDT
DTSTART:20230312T100000
END:DAYLIGHT
BEGIN:STANDARD
TZOFFSETFROM:-0700
TZOFFSETTO:-0800
TZNAME:PST
DTSTART:20231105T090000
END:STANDARD
BEGIN:DAYLIGHT
TZOFFSETFROM:-0800
TZOFFSETTO:-0700
TZNAME:PDT
DTSTART:20240310T100000
END:DAYLIGHT
BEGIN:STANDARD
TZOFFSETFROM:-0700
TZOFFSETTO:-0800
TZNAME:PST
DTSTART:20241103T090000
END:STANDARD
BEGIN:DAYLIGHT
TZOFFSETFROM:-0800
TZOFFSETTO:-0700
TZNAME:PDT
DTSTART:20250309T100000
END:DAYLIGHT
BEGIN:STANDARD
TZOFFSETFROM:-0700
TZOFFSETTO:-0800
TZNAME:PST
DTSTART:20251102T090000
END:STANDARD
END:VTIMEZONE
BEGIN:VEVENT
DTSTART;TZID=America/Los_Angeles:20240830T140000
DTEND;TZID=America/Los_Angeles:20240831T233000
DTSTAMP:20260422T043549
CREATED:20240722T222638Z
LAST-MODIFIED:20240826T232359Z
UID:10001507-1725026400-1725147000@anastasia.foundation
SUMMARY:August 30th-August 31st Camping and Hiking in Northern California with Alex
DESCRIPTION:Date: August 30th-August 31st 2024 \nTime: 14pm (07/30) – 24pm (07/31) \nLocation: Anthony Chabot East Bay Regional Park (Get Directions) \nDescription: We will be camping out\, perhaps have a fire going in the evening if the park allows it\, sharing music and stories and passages from the books and food. We will have opportunities to hike in the morning. I will ask for deposits of $20 per adult ($30 for couples)\, but will return extra funds not needed to cover the campsite at the event. We will have a group campsite. \nTents and some camping gear can be provided on request. Please bring your own meals and cooking equipment and food to share for a potluck Friday evening. Also please bring musical instruments. Children and pets are welcome. \nContact details: Northern California Regional Ambassador\nnorcal@anastasia.foundation\, Telegram Alex Audet @WaterCello or 7653188418
URL:https://anastasia.foundation/event/august-30th-august-31st-california-ringing-cedars-readers-meetup/
CATEGORIES:Regional Ambassador Events
ATTACH;FMTTYPE=image/jpeg:https://anastasiafoundation.b-cdn.net/wp-content/uploads/2024/07/photo_2024-07-22_08-22-10-2-1.jpg
END:VEVENT
END:VCALENDAR