BEGIN:VCALENDAR
VERSION:2.0
PRODID:-//Ringing Cedars of Russia USA + Canada | Anastasia Foundation - ECPv6.15.17.1//NONSGML v1.0//EN
CALSCALE:GREGORIAN
METHOD:PUBLISH
X-WR-CALNAME:Ringing Cedars of Russia USA + Canada | Anastasia Foundation
X-ORIGINAL-URL:https://anastasia.foundation
X-WR-CALDESC:Events for Ringing Cedars of Russia USA + Canada | Anastasia Foundation
REFRESH-INTERVAL;VALUE=DURATION:PT1H
X-Robots-Tag:noindex
X-PUBLISHED-TTL:PT1H
BEGIN:VTIMEZONE
TZID:America/New_York
BEGIN:DAYLIGHT
TZOFFSETFROM:-0500
TZOFFSETTO:-0400
TZNAME:EDT
DTSTART:20230312T070000
END:DAYLIGHT
BEGIN:STANDARD
TZOFFSETFROM:-0400
TZOFFSETTO:-0500
TZNAME:EST
DTSTART:20231105T060000
END:STANDARD
BEGIN:DAYLIGHT
TZOFFSETFROM:-0500
TZOFFSETTO:-0400
TZNAME:EDT
DTSTART:20240310T070000
END:DAYLIGHT
BEGIN:STANDARD
TZOFFSETFROM:-0400
TZOFFSETTO:-0500
TZNAME:EST
DTSTART:20241103T060000
END:STANDARD
BEGIN:DAYLIGHT
TZOFFSETFROM:-0500
TZOFFSETTO:-0400
TZNAME:EDT
DTSTART:20250309T070000
END:DAYLIGHT
BEGIN:STANDARD
TZOFFSETFROM:-0400
TZOFFSETTO:-0500
TZNAME:EST
DTSTART:20251102T060000
END:STANDARD
END:VTIMEZONE
BEGIN:VTIMEZONE
TZID:Europe/Copenhagen
BEGIN:DAYLIGHT
TZOFFSETFROM:+0100
TZOFFSETTO:+0200
TZNAME:CEST
DTSTART:20230326T010000
END:DAYLIGHT
BEGIN:STANDARD
TZOFFSETFROM:+0200
TZOFFSETTO:+0100
TZNAME:CET
DTSTART:20231029T010000
END:STANDARD
BEGIN:DAYLIGHT
TZOFFSETFROM:+0100
TZOFFSETTO:+0200
TZNAME:CEST
DTSTART:20240331T010000
END:DAYLIGHT
BEGIN:STANDARD
TZOFFSETFROM:+0200
TZOFFSETTO:+0100
TZNAME:CET
DTSTART:20241027T010000
END:STANDARD
BEGIN:DAYLIGHT
TZOFFSETFROM:+0100
TZOFFSETTO:+0200
TZNAME:CEST
DTSTART:20250330T010000
END:DAYLIGHT
BEGIN:STANDARD
TZOFFSETFROM:+0200
TZOFFSETTO:+0100
TZNAME:CET
DTSTART:20251026T010000
END:STANDARD
END:VTIMEZONE
BEGIN:VEVENT
DTSTART;TZID=America/New_York:20240723T120000
DTEND;TZID=America/New_York:20240723T163000
DTSTAMP:20260422T072439
CREATED:20240710T075134Z
LAST-MODIFIED:20240723T181833Z
UID:10001504-1721736000-1721752200@anastasia.foundation
SUMMARY:July 23rd Asheville\, North Carolina Ringing Cedars Meetup  with Gabriel
DESCRIPTION:Date:  Tuesday\, July 23rd 2024 \nTime:  12pm – 4:30pm EST \nLocation: French Broad River Park — 508 Riverview Dr\, Asheville\, NC 28806 (Get Directions) \nDescription: Meet other Ringing Cedars of Russia readers in the Asheville\, North Carolina area! The goal is to meet and connect\, and start to build a community of readers in the area. The meetup will be relaxed and casual\, hosted outside in the beautiful French Broad River park in Asheville. Expect free flowing conversation for a few hours\, nothing fancy! \nContact: Join the North Carolina Telegram https://t.me/northcarolinaringingcedars or email contact@anastasia.foundation \n  \n\n		\n		\n			\n				\n			\n			\n				\n			\n		\n\n  \nEvent Notes\n1. Seating and Comfort: Please bring your own chairs or blankets to sit on\, if you desire. \n2. Food and Drinks: BYO snacks and drinks. \n3. Finding Us: Look for the Anastasia Foundation banner and table. \n \n  \nSee you there! \n\nGabriel Miguel
URL:https://anastasia.foundation/event/july-23rd-asheville-north-carolina-ringing-cedars-meetup-with-gabriel/
CATEGORIES:Regional Ambassador Events
ATTACH;FMTTYPE=image/jpeg:https://anastasiafoundation.b-cdn.net/wp-content/uploads/2024/07/July-23rd-2024-Ashville-North-Carolina-Meetup.jpg
ORGANIZER;CN="Anastasia Foundation":MAILTO:hello@anastasiausa.land
END:VEVENT
BEGIN:VEVENT
DTSTART;TZID=Europe/Copenhagen:20240723T140000
DTEND;TZID=Europe/Copenhagen:20240723T170000
DTSTAMP:20260422T072439
CREATED:20240715T034018Z
LAST-MODIFIED:20240715T034018Z
UID:10001506-1721743200-1721754000@anastasia.foundation
SUMMARY:July 23rd Denmark Ringing Cedars Meetup with Maja
DESCRIPTION:Date:  Tuesday\, July 23rd 2024 \nTime: 14:00-17:00 pm CET/GMT+1 \nLocation: Maltgården\, Ebeltoft\, Denmark (Get Directions) \nDescription: At this School of Happiness event\, we celebrate ‘Whole Earth Day’ by inviting everyone living on the countryside or in dachas\, who have surplus from their garden\, to go to town to share the fresh food with everyone living in the city\, who don’t have their own fresh food. \nFill a basket with edible herbs\, flowers\, crops or what you can find in your garden or in the forest\, and be part of spreading joy and health to our dear families\, friends and neigbors in the cities. All musicians are invited to come and share happy music\, when we walk together through the streets. \nIn Ebeltoft in Denmark\, we gather under the big tree in Maltgården\, and walk together through the streets\, sharing the abundance and good tunes. \nLink: https://maltfabrikken.dk/kalender/#event-12765 \nSee you there! \n\nMaja\, Denmark Country Ambassador
URL:https://anastasia.foundation/event/july-23rd-denmark-ringing-cedars-meetup-with-maja/
CATEGORIES:Regional Ambassador Events
ATTACH;FMTTYPE=image/jpeg:https://anastasiafoundation.b-cdn.net/wp-content/uploads/2024/07/Maja-J.-July-23rd-2024-ringing-cedars-meetup-denmark.jpg
ORGANIZER;CN="Anastasia Foundation":MAILTO:hello@anastasiausa.land
END:VEVENT
END:VCALENDAR