BEGIN:VCALENDAR
VERSION:2.0
PRODID:-//Ringing Cedars of Russia USA + Canada | Anastasia Foundation - ECPv6.15.17.1//NONSGML v1.0//EN
CALSCALE:GREGORIAN
METHOD:PUBLISH
X-WR-CALNAME:Ringing Cedars of Russia USA + Canada | Anastasia Foundation
X-ORIGINAL-URL:https://anastasia.foundation
X-WR-CALDESC:Events for Ringing Cedars of Russia USA + Canada | Anastasia Foundation
REFRESH-INTERVAL;VALUE=DURATION:PT1H
X-Robots-Tag:noindex
X-PUBLISHED-TTL:PT1H
BEGIN:VTIMEZONE
TZID:Europe/Berlin
BEGIN:DAYLIGHT
TZOFFSETFROM:+0100
TZOFFSETTO:+0200
TZNAME:CEST
DTSTART:20250330T010000
END:DAYLIGHT
BEGIN:STANDARD
TZOFFSETFROM:+0200
TZOFFSETTO:+0100
TZNAME:CET
DTSTART:20251026T010000
END:STANDARD
BEGIN:DAYLIGHT
TZOFFSETFROM:+0100
TZOFFSETTO:+0200
TZNAME:CEST
DTSTART:20260329T010000
END:DAYLIGHT
BEGIN:STANDARD
TZOFFSETFROM:+0200
TZOFFSETTO:+0100
TZNAME:CET
DTSTART:20261025T010000
END:STANDARD
BEGIN:DAYLIGHT
TZOFFSETFROM:+0100
TZOFFSETTO:+0200
TZNAME:CEST
DTSTART:20270328T010000
END:DAYLIGHT
BEGIN:STANDARD
TZOFFSETFROM:+0200
TZOFFSETTO:+0100
TZNAME:CET
DTSTART:20271031T010000
END:STANDARD
END:VTIMEZONE
BEGIN:VTIMEZONE
TZID:America/Chicago
BEGIN:DAYLIGHT
TZOFFSETFROM:-0600
TZOFFSETTO:-0500
TZNAME:CDT
DTSTART:20250309T080000
END:DAYLIGHT
BEGIN:STANDARD
TZOFFSETFROM:-0500
TZOFFSETTO:-0600
TZNAME:CST
DTSTART:20251102T070000
END:STANDARD
BEGIN:DAYLIGHT
TZOFFSETFROM:-0600
TZOFFSETTO:-0500
TZNAME:CDT
DTSTART:20260308T080000
END:DAYLIGHT
BEGIN:STANDARD
TZOFFSETFROM:-0500
TZOFFSETTO:-0600
TZNAME:CST
DTSTART:20261101T070000
END:STANDARD
BEGIN:DAYLIGHT
TZOFFSETFROM:-0600
TZOFFSETTO:-0500
TZNAME:CDT
DTSTART:20270314T080000
END:DAYLIGHT
BEGIN:STANDARD
TZOFFSETFROM:-0500
TZOFFSETTO:-0600
TZNAME:CST
DTSTART:20271107T070000
END:STANDARD
END:VTIMEZONE
BEGIN:VTIMEZONE
TZID:America/New_York
BEGIN:DAYLIGHT
TZOFFSETFROM:-0500
TZOFFSETTO:-0400
TZNAME:EDT
DTSTART:20250309T070000
END:DAYLIGHT
BEGIN:STANDARD
TZOFFSETFROM:-0400
TZOFFSETTO:-0500
TZNAME:EST
DTSTART:20251102T060000
END:STANDARD
BEGIN:DAYLIGHT
TZOFFSETFROM:-0500
TZOFFSETTO:-0400
TZNAME:EDT
DTSTART:20260308T070000
END:DAYLIGHT
BEGIN:STANDARD
TZOFFSETFROM:-0400
TZOFFSETTO:-0500
TZNAME:EST
DTSTART:20261101T060000
END:STANDARD
BEGIN:DAYLIGHT
TZOFFSETFROM:-0500
TZOFFSETTO:-0400
TZNAME:EDT
DTSTART:20270314T070000
END:DAYLIGHT
BEGIN:STANDARD
TZOFFSETFROM:-0400
TZOFFSETTO:-0500
TZNAME:EST
DTSTART:20271107T060000
END:STANDARD
END:VTIMEZONE
BEGIN:VEVENT
DTSTART;TZID=Europe/Berlin:20260105T180000
DTEND;TZID=Europe/Berlin:20260105T193000
DTSTAMP:20260420T222954
CREATED:20260102T155400Z
LAST-MODIFIED:20260103T154403Z
UID:10001553-1767636000-1767641400@anastasia.foundation
SUMMARY:European Online Book Club & Self-Creation Workgroup
DESCRIPTION:Book club & self-creation workgroup!\nWelcome to the new online book club starting at the end of 2025 and lasting for 40 meetings! Each meeting we analyse 1/4 of a book.\nAbout the host: “My name is Tina Ivčević Pušić. I’m a horse woman living on my kins domain on Vis\, Croatia. The books have inspired me immensely in creating a beautiful life for myself. I’m on my path of doing just that! My initial idea for this book club came from a wish to have a book club at a good time of day in Europe. This is a way to enable European readers to connect more easily\, but everyone is invited. The more\, the merrier!” \nAbout the club: We are analysing the books\, but we’re also talking about how each of us can and will take the ideas we’re inspired by and practically implement them into our own lives. It’s a practical study group! \nMeeting structure: We begin each call with what we managed to improve from last call and what we need support with\, continue with the main part – analysing the book\, and end the call with what we want to improve in the next month. \nTechnical details: \n– We meet every month just before a full moon\, at 7pm Central European Time.\n– The meeting time is 90min to 2 hours.\n– We analyse 1/4 of the book each time. Please look at which chapters to read beforehand.\n– Think about which ideas from the book is your soul calling you to live out in your own life. \nOur schedule: \n4th Nov 2025 Book 1\, chapters 1-9\n4th Dec 2025 Book 1\, chapters 10-18\n5th Jan 2026 Book 1\, chapters 19-26\n28th Jan 2026 Book 1\, chapters 27-31 \n Zoom link:\nhttps://us02web.zoom.us/j/82295567500?pwd=O0UgibEjdTKALb4jnSfiQfNkla9bhl.1\nPassword: 9 \n Event’s telegram group: https://t.me/+ff5ULbQXbio3ZmE0
URL:https://anastasia.foundation/event/november-4th-book-club-self-creation-workgroup-2/
LOCATION:Zoom\, United States
CATEGORIES:Europe,Regional Ambassador Events
ATTACH;FMTTYPE=image/jpeg:https://anastasiafoundation.b-cdn.net/wp-content/uploads/2025/10/european-online-book-club.jpg
ORGANIZER;CN="Anastasia Foundation":MAILTO:hello@anastasiausa.land
END:VEVENT
BEGIN:VEVENT
DTSTART;TZID=America/Chicago:20260124T160000
DTEND;TZID=America/Chicago:20260124T190000
DTSTAMP:20260420T222954
CREATED:20260115T150453Z
LAST-MODIFIED:20260118T173102Z
UID:10001567-1769270400-1769281200@anastasia.foundation
SUMMARY:Austin\, Texas — Reader's Gathering\, with Svetlana
DESCRIPTION:Sat January 24\, 2025\n⏰ 4 PM\nCasa de Luz Village\, 1701 Toomey Rd\, Austin\, TX 78704 (Google Maps directions) \nJoin us at Casa de Luz Village in Austin\, Texas for a live readers gathering! \nThis is a casual Meetup\, where you connect with local Ringing Cedars readers. \nEvent lead: Svetlana Semina — Telegram @Svetlanka8085 — Phone 15127387852 | contact@anastasia.foundation
URL:https://anastasia.foundation/event/austin-texas-readers-gathering-4/
LOCATION:Casa de Luz Village\, 1701 Toomey Rd.\, Austin\, TX\, 78704\, United States
CATEGORIES:Regional Ambassador Events
ATTACH;FMTTYPE=image/jpeg:https://anastasiafoundation.b-cdn.net/wp-content/uploads/2025/08/1.jpg
END:VEVENT
BEGIN:VEVENT
DTSTART;TZID=Europe/Berlin:20260128T190000
DTEND;TZID=Europe/Berlin:20260128T203000
DTSTAMP:20260420T222954
CREATED:20260102T155449Z
LAST-MODIFIED:20260102T155450Z
UID:10001554-1769626800-1769632200@anastasia.foundation
SUMMARY:European Online Book Club & Self-Creation Workgroup
DESCRIPTION:Book club & self-creation workgroup!\nWelcome to the new online book club starting at the end of 2025 and lasting for 40 meetings! Each meeting we analyse 1/4 of a book.\nAbout the host: “My name is Tina Ivčević Pušić. I’m a horse woman living on my kins domain on Vis\, Croatia. The books have inspired me immensely in creating a beautiful life for myself. I’m on my path of doing just that! My initial idea for this book club came from a wish to have a book club at a good time of day in Europe. This is a way to enable European readers to connect more easily\, but everyone is invited. The more\, the merrier!” \nAbout the club: We are analysing the books\, but we’re also talking about how each of us can and will take the ideas we’re inspired by and practically implement them into our own lives. It’s a practical study group! \nMeeting structure: We begin each call with what we managed to improve from last call and what we need support with\, continue with the main part – analysing the book\, and end the call with what we want to improve in the next month. \nTechnical details: \n– We meet every month just before a full moon\, at 7pm Central European Time.\n– The meeting time is 90min to 2 hours.\n– We analyse 1/4 of the book each time. Please look at which chapters to read beforehand.\n– Think about which ideas from the book is your soul calling you to live out in your own life. \nOur schedule: \n4th Nov 2025 Book 1\, chapters 1-9\n4th Dec 2025 Book 1\, chapters 10-18\n5th Jan 2026 Book 1\, chapters 19-26\n28th Jan 2026 Book 1\, chapters 27-31 \n Zoom link:\nhttps://us02web.zoom.us/j/82295567500?pwd=O0UgibEjdTKALb4jnSfiQfNkla9bhl.1\nPassword: 9 \n Event’s telegram group: https://t.me/+ff5ULbQXbio3ZmE0
URL:https://anastasia.foundation/event/november-4th-book-club-self-creation-workgroup-3/
LOCATION:Zoom\, United States
CATEGORIES:Europe,Regional Ambassador Events
ATTACH;FMTTYPE=image/jpeg:https://anastasiafoundation.b-cdn.net/wp-content/uploads/2025/10/european-online-book-club.jpg
ORGANIZER;CN="Anastasia Foundation":MAILTO:hello@anastasiausa.land
END:VEVENT
BEGIN:VEVENT
DTSTART;TZID=America/New_York:20260131T080000
DTEND;TZID=America/New_York:20260131T170000
DTSTAMP:20260420T222954
CREATED:20260118T172951Z
LAST-MODIFIED:20260118T173021Z
UID:10001568-1769846400-1769878800@anastasia.foundation
SUMMARY:Arizona Reader's Meetup & Potluck\, with Sarah
DESCRIPTION:Friday\, January 31⏰ 11:00 AM – 2:00 PMPaulden\, ArizonaPotluck meetup✅ RSVP required to receive directions \nJoin a casual in-person meetup for Ringing Cedars readers in Arizona\, hosted by Sarah Mitsuko\, our Arizona Regional Ambassador. This is a relaxed gathering to connect with local readers\, share stories\, and spend time together on the land. \nSarah has been developing her land in Paulden for the past couple of years. She also spent about a year in Russia\, visiting dolmens and several Kin’s Domain Settlements. If you’d like to read more about that adventure\, you can visit: www.myrussiaadventure.wordpress.com \nYou’re welcome to bring a dish to share for the potluck. \nRSVP to receive directions:Telegram: @Sarahmitsuko✉️ Email: Sarahmitsuko@yahoo.comPhone/Text: 928-862-8000 \nArizona Telegram chat: https://t.me/+EnGJ8YVgAZ9hYmYx
URL:https://anastasia.foundation/event/arizona-readers-meetup-potluck-with-sarah/
CATEGORIES:Regional Ambassador Events
ATTACH;FMTTYPE=image/jpeg:https://anastasiafoundation.b-cdn.net/wp-content/uploads/2026/01/arizona-meetup.jpg
ORGANIZER;CN="Sarah Mitsuko":MAILTO:arizona@anastasia.foundation
END:VEVENT
END:VCALENDAR