BEGIN:VCALENDAR
VERSION:2.0
PRODID:-//Ringing Cedars of Russia USA + Canada | Anastasia Foundation - ECPv6.15.17.1//NONSGML v1.0//EN
CALSCALE:GREGORIAN
METHOD:PUBLISH
X-ORIGINAL-URL:https://anastasia.foundation
X-WR-CALDESC:Events for Ringing Cedars of Russia USA + Canada | Anastasia Foundation
REFRESH-INTERVAL;VALUE=DURATION:PT1H
X-Robots-Tag:noindex
X-PUBLISHED-TTL:PT1H
BEGIN:VTIMEZONE
TZID:America/Denver
BEGIN:DAYLIGHT
TZOFFSETFROM:-0700
TZOFFSETTO:-0600
TZNAME:MDT
DTSTART:20240310T090000
END:DAYLIGHT
BEGIN:STANDARD
TZOFFSETFROM:-0600
TZOFFSETTO:-0700
TZNAME:MST
DTSTART:20241103T080000
END:STANDARD
BEGIN:DAYLIGHT
TZOFFSETFROM:-0700
TZOFFSETTO:-0600
TZNAME:MDT
DTSTART:20250309T090000
END:DAYLIGHT
BEGIN:STANDARD
TZOFFSETFROM:-0600
TZOFFSETTO:-0700
TZNAME:MST
DTSTART:20251102T080000
END:STANDARD
BEGIN:DAYLIGHT
TZOFFSETFROM:-0700
TZOFFSETTO:-0600
TZNAME:MDT
DTSTART:20260308T090000
END:DAYLIGHT
BEGIN:STANDARD
TZOFFSETFROM:-0600
TZOFFSETTO:-0700
TZNAME:MST
DTSTART:20261101T080000
END:STANDARD
END:VTIMEZONE
BEGIN:VTIMEZONE
TZID:America/New_York
BEGIN:DAYLIGHT
TZOFFSETFROM:-0500
TZOFFSETTO:-0400
TZNAME:EDT
DTSTART:20240310T070000
END:DAYLIGHT
BEGIN:STANDARD
TZOFFSETFROM:-0400
TZOFFSETTO:-0500
TZNAME:EST
DTSTART:20241103T060000
END:STANDARD
BEGIN:DAYLIGHT
TZOFFSETFROM:-0500
TZOFFSETTO:-0400
TZNAME:EDT
DTSTART:20250309T070000
END:DAYLIGHT
BEGIN:STANDARD
TZOFFSETFROM:-0400
TZOFFSETTO:-0500
TZNAME:EST
DTSTART:20251102T060000
END:STANDARD
BEGIN:DAYLIGHT
TZOFFSETFROM:-0500
TZOFFSETTO:-0400
TZNAME:EDT
DTSTART:20260308T070000
END:DAYLIGHT
BEGIN:STANDARD
TZOFFSETFROM:-0400
TZOFFSETTO:-0500
TZNAME:EST
DTSTART:20261101T060000
END:STANDARD
END:VTIMEZONE
BEGIN:VEVENT
DTSTART;TZID=America/Denver:20251012T110000
DTEND;TZID=America/Denver:20251012T140000
DTSTAMP:20260421T034352
CREATED:20250921T225422Z
LAST-MODIFIED:20251005T224951Z
UID:10001547-1760266800-1760277600@anastasia.foundation
SUMMARY:October 12th\, Reader's Gathering at Sedona\, Arizona
DESCRIPTION:Sat October 12\, 2025\n⏰ 11am – 2pm\nChocolaTree Organic Eatery\, 1595 AZ-89A\, Sedona\, AZ 86336 (Google Maps directions) \nJoin us at ChocolaTree Organic Eatery in Sedona\, AZ for a live readers gathering! \nThis is a casual Meetup\, where you connect with local Ringing Cedars readers. \nEvent lead: Sarah Mitsuko — Telegram @Sarahmitsuko | contact@anastasia.foundation
URL:https://anastasia.foundation/event/sedona-arizona-readers-gathering/
LOCATION:Chocolatree Organic Eatery\, 595 AZ-89A\, Sedona\, AZ 86336\, Sedona\, AZ\, United States
CATEGORIES:Regional Ambassador Events
ATTACH;FMTTYPE=image/jpeg:https://anastasiafoundation.b-cdn.net/wp-content/uploads/2025/09/sarah-meetup.jpg
ORGANIZER;CN="Sarah Mitsuko":MAILTO:arizona@anastasia.foundation
END:VEVENT
BEGIN:VEVENT
DTSTART;TZID=America/New_York:20251019T120000
DTEND;TZID=America/New_York:20251019T170000
DTSTAMP:20260421T034352
CREATED:20251005T223416Z
LAST-MODIFIED:20251005T232748Z
UID:10001546-1760875200-1760893200@anastasia.foundation
SUMMARY:October 19th\, Ringing Cedars Reader’s Gathering in Blairsville\, Georgia
DESCRIPTION:Sunday\, October 19th\n12.00 EDT\nPrivate Residence (RSVP) \nHello all! \nMy name is Carla and I would love to open my Space of Love to all who feel called to make the trek. \nMy parents bought land bordering National Forest in the 80s. They had two babies in diapers already when they chose this land\, pitched up a tent\, and built a house with their own hands using materials on the property. They dug a well\, grew a garden\, and hunted deer for food. I was prayed for\, born\, conceived\, and raised on this land\, and it is my Motherland — I feel as though it is my larger body. I would like to invite readers into this sacred place for a potluck picnic. \nI share this space with my parents and wish to respect their privacy\, but we can picnic in the yard between my living space and theirs. I would love to do just a little gentle yoga and a guided meditation. So bring a blanket or two! Afterwards we can sit by the creek\, sip tea\, and discuss topics of the books as they relate to whatever is alive in our hearts at that moment in time. I look so forward to seeing all of you! \nTime: lunchtime til evening — just show up when you can. \nThere is space to camp if you are traveling a long way — just ask! \n✍️Text me at 706-455-8189 or carlabloom101@yahoo.com for the address and to RSVP. \nLooking forward to seeing your bright souls! \nCarla.
URL:https://anastasia.foundation/event/october-19th-ringing-cedars-readers-gathering-in-blairsville-georgia/
LOCATION:Private Residence RSVP\, United States
CATEGORIES:Regional Ambassador Events
ATTACH;FMTTYPE=image/jpeg:https://anastasiafoundation.b-cdn.net/wp-content/uploads/2025/04/carla-mcmann-e1748501777420.jpg
ORGANIZER;CN="Anastasia Foundation":MAILTO:hello@anastasiausa.land
END:VEVENT
END:VCALENDAR