BEGIN:VCALENDAR
VERSION:2.0
PRODID:-//Ringing Cedars of Russia USA + Canada | Anastasia Foundation - ECPv6.15.17.1//NONSGML v1.0//EN
CALSCALE:GREGORIAN
METHOD:PUBLISH
X-ORIGINAL-URL:https://anastasia.foundation
X-WR-CALDESC:Events for Ringing Cedars of Russia USA + Canada | Anastasia Foundation
REFRESH-INTERVAL;VALUE=DURATION:PT1H
X-Robots-Tag:noindex
X-PUBLISHED-TTL:PT1H
BEGIN:VTIMEZONE
TZID:America/Vancouver
BEGIN:DAYLIGHT
TZOFFSETFROM:-0800
TZOFFSETTO:-0700
TZNAME:PDT
DTSTART:20240310T100000
END:DAYLIGHT
BEGIN:STANDARD
TZOFFSETFROM:-0700
TZOFFSETTO:-0800
TZNAME:PST
DTSTART:20241103T090000
END:STANDARD
BEGIN:DAYLIGHT
TZOFFSETFROM:-0800
TZOFFSETTO:-0700
TZNAME:PDT
DTSTART:20250309T100000
END:DAYLIGHT
BEGIN:STANDARD
TZOFFSETFROM:-0700
TZOFFSETTO:-0800
TZNAME:PST
DTSTART:20251102T090000
END:STANDARD
BEGIN:DAYLIGHT
TZOFFSETFROM:-0800
TZOFFSETTO:-0700
TZNAME:PDT
DTSTART:20260308T100000
END:DAYLIGHT
BEGIN:STANDARD
TZOFFSETFROM:-0700
TZOFFSETTO:-0800
TZNAME:PST
DTSTART:20261101T090000
END:STANDARD
END:VTIMEZONE
BEGIN:VTIMEZONE
TZID:America/New_York
BEGIN:DAYLIGHT
TZOFFSETFROM:-0500
TZOFFSETTO:-0400
TZNAME:EDT
DTSTART:20240310T070000
END:DAYLIGHT
BEGIN:STANDARD
TZOFFSETFROM:-0400
TZOFFSETTO:-0500
TZNAME:EST
DTSTART:20241103T060000
END:STANDARD
BEGIN:DAYLIGHT
TZOFFSETFROM:-0500
TZOFFSETTO:-0400
TZNAME:EDT
DTSTART:20250309T070000
END:DAYLIGHT
BEGIN:STANDARD
TZOFFSETFROM:-0400
TZOFFSETTO:-0500
TZNAME:EST
DTSTART:20251102T060000
END:STANDARD
BEGIN:DAYLIGHT
TZOFFSETFROM:-0500
TZOFFSETTO:-0400
TZNAME:EDT
DTSTART:20260308T070000
END:DAYLIGHT
BEGIN:STANDARD
TZOFFSETFROM:-0400
TZOFFSETTO:-0500
TZNAME:EST
DTSTART:20261101T060000
END:STANDARD
END:VTIMEZONE
BEGIN:VEVENT
DTSTART;TZID=America/Vancouver:20250906T130000
DTEND;TZID=America/Vancouver:20250906T160000
DTSTAMP:20260421T051927
CREATED:20250823T222743Z
LAST-MODIFIED:20250825T025624Z
UID:10001540-1757163600-1757174400@anastasia.foundation
SUMMARY:Kin Beach\, Comox\, Vancouver Island — Reader's Gathering
DESCRIPTION:Sat September 6\, 2025\n⏰ 1-4 PM PST\nKin Beach Provincial Park\, 1712 Astra Rd\, Comox\, (Vancouver Island) BC V9M 4B7\, Canada (Google Maps directions) \nJoin us at Kin Beach in Comox for a live readers gathering! \nThis is a casual Meet & Greet\, where you connect with local Ringing Cedars readers by the ocean and mountains. \nBring your…\n– seeds for a seed exchange\n– dogs (friendly leashed dogs are welcome)\n– children \nSuggested items: picnic blanket or folding chair\, water\, snacks\, sun protection. \nEvent lead: Ariane Telishewsky — Telegram @arianeteli | vancouver@anastasia.foundation
URL:https://anastasia.foundation/event/kin-beach-comox-vancouver-island-readers-gathering/
LOCATION:Kin Beach\, Comox\, Vancouver Island\, B.C.\, 1712 Astra Rd\, Comox\, B.C.\, V9M 4B7\, Canada
CATEGORIES:Regional Ambassador Events
ATTACH;FMTTYPE=image/jpeg:https://anastasiafoundation.b-cdn.net/wp-content/uploads/2025/08/2.jpg
END:VEVENT
BEGIN:VEVENT
DTSTART;TZID=America/New_York:20250913T163000
DTEND;TZID=America/New_York:20250913T200000
DTSTAMP:20260421T051927
CREATED:20250823T234624Z
LAST-MODIFIED:20250825T025600Z
UID:10001542-1757781000-1757793600@anastasia.foundation
SUMMARY:Summertown\, Tennessee  — Reader's Gathering @ "The Farm"
DESCRIPTION:Sat September 13\, 2025\n⏰ 4:30 – 8 PM\nThe Farm\, 100 Farm Rd\, Summertown\, TN 38483 (Google Maps directions) \nJoin us for a special gathering hosted at the The Farm community! \nCome early to check out their farmers market from 9 am – 2 pm\, then take a dip at the swimming hole in the community before we all officially meet at 4:30. \nMeeting will be outdoors so bring a comfy lawnchair\, tho we have rented the ballroom in case of weather. \nCamping available the night before and after! The community has a plethora of options to stay the night\, please inquire. \nPlease RSVP with event lead Ruth Devors: — Email: readersoftennessee@gmail.com — Telegram @ruth_1777 — Phone 808-339-8730
URL:https://anastasia.foundation/event/summertown-tennessee-readers-gathering-the-farm/
LOCATION:The Farm\, Tennessee\, 100 Farm Rd\, Summertown\, TN\, 38483\, United States
CATEGORIES:Regional Ambassador Events
ATTACH;FMTTYPE=image/jpeg:https://anastasiafoundation.b-cdn.net/wp-content/uploads/2025/08/3.jpg
END:VEVENT
BEGIN:VEVENT
DTSTART;TZID=America/New_York:20250927T160000
DTEND;TZID=America/New_York:20250927T190000
DTSTAMP:20260421T051927
CREATED:20250921T214425Z
LAST-MODIFIED:20250921T214425Z
UID:10001545-1758988800-1758999600@anastasia.foundation
SUMMARY:Austin\, Texas — Reader's Gathering
DESCRIPTION:Sat September 27\, 2025\n⏰ 4 PM\nCasa de Luz Village\, 1701 Toomey Rd\, Austin\, TX 78704 (Google Maps directions) \nJoin us at Casa de Luz Village in Austin\, Texas for a live readers gathering! \nThis is a casual Meetup\, where you connect with local Ringing Cedars readers. \nEvent lead: Svetlana Semina — Telegram @Svetlanka8085 — Phone 15127387852 | contact@anastasia.foundation
URL:https://anastasia.foundation/event/austin-texas-readers-gathering-2/
LOCATION:Casa de Luz Village\, 1701 Toomey Rd.\, Austin\, TX\, 78704\, United States
CATEGORIES:Regional Ambassador Events
ATTACH;FMTTYPE=image/jpeg:https://anastasiafoundation.b-cdn.net/wp-content/uploads/2025/08/1.jpg
END:VEVENT
END:VCALENDAR