BEGIN:VCALENDAR
VERSION:2.0
PRODID:-//Ringing Cedars of Russia USA + Canada | Anastasia Foundation - ECPv6.15.17.1//NONSGML v1.0//EN
CALSCALE:GREGORIAN
METHOD:PUBLISH
X-WR-CALNAME:Ringing Cedars of Russia USA + Canada | Anastasia Foundation
X-ORIGINAL-URL:https://anastasia.foundation
X-WR-CALDESC:Events for Ringing Cedars of Russia USA + Canada | Anastasia Foundation
REFRESH-INTERVAL;VALUE=DURATION:PT1H
X-Robots-Tag:noindex
X-PUBLISHED-TTL:PT1H
BEGIN:VTIMEZONE
TZID:America/Denver
BEGIN:DAYLIGHT
TZOFFSETFROM:-0700
TZOFFSETTO:-0600
TZNAME:MDT
DTSTART:20240310T090000
END:DAYLIGHT
BEGIN:STANDARD
TZOFFSETFROM:-0600
TZOFFSETTO:-0700
TZNAME:MST
DTSTART:20241103T080000
END:STANDARD
BEGIN:DAYLIGHT
TZOFFSETFROM:-0700
TZOFFSETTO:-0600
TZNAME:MDT
DTSTART:20250309T090000
END:DAYLIGHT
BEGIN:STANDARD
TZOFFSETFROM:-0600
TZOFFSETTO:-0700
TZNAME:MST
DTSTART:20251102T080000
END:STANDARD
BEGIN:DAYLIGHT
TZOFFSETFROM:-0700
TZOFFSETTO:-0600
TZNAME:MDT
DTSTART:20260308T090000
END:DAYLIGHT
BEGIN:STANDARD
TZOFFSETFROM:-0600
TZOFFSETTO:-0700
TZNAME:MST
DTSTART:20261101T080000
END:STANDARD
END:VTIMEZONE
BEGIN:VTIMEZONE
TZID:America/New_York
BEGIN:DAYLIGHT
TZOFFSETFROM:-0500
TZOFFSETTO:-0400
TZNAME:EDT
DTSTART:20240310T070000
END:DAYLIGHT
BEGIN:STANDARD
TZOFFSETFROM:-0400
TZOFFSETTO:-0500
TZNAME:EST
DTSTART:20241103T060000
END:STANDARD
BEGIN:DAYLIGHT
TZOFFSETFROM:-0500
TZOFFSETTO:-0400
TZNAME:EDT
DTSTART:20250309T070000
END:DAYLIGHT
BEGIN:STANDARD
TZOFFSETFROM:-0400
TZOFFSETTO:-0500
TZNAME:EST
DTSTART:20251102T060000
END:STANDARD
BEGIN:DAYLIGHT
TZOFFSETFROM:-0500
TZOFFSETTO:-0400
TZNAME:EDT
DTSTART:20260308T070000
END:DAYLIGHT
BEGIN:STANDARD
TZOFFSETFROM:-0400
TZOFFSETTO:-0500
TZNAME:EST
DTSTART:20261101T060000
END:STANDARD
END:VTIMEZONE
BEGIN:VTIMEZONE
TZID:America/Chicago
BEGIN:DAYLIGHT
TZOFFSETFROM:-0600
TZOFFSETTO:-0500
TZNAME:CDT
DTSTART:20240310T080000
END:DAYLIGHT
BEGIN:STANDARD
TZOFFSETFROM:-0500
TZOFFSETTO:-0600
TZNAME:CST
DTSTART:20241103T070000
END:STANDARD
BEGIN:DAYLIGHT
TZOFFSETFROM:-0600
TZOFFSETTO:-0500
TZNAME:CDT
DTSTART:20250309T080000
END:DAYLIGHT
BEGIN:STANDARD
TZOFFSETFROM:-0500
TZOFFSETTO:-0600
TZNAME:CST
DTSTART:20251102T070000
END:STANDARD
BEGIN:DAYLIGHT
TZOFFSETFROM:-0600
TZOFFSETTO:-0500
TZNAME:CDT
DTSTART:20260308T080000
END:DAYLIGHT
BEGIN:STANDARD
TZOFFSETFROM:-0500
TZOFFSETTO:-0600
TZNAME:CST
DTSTART:20261101T070000
END:STANDARD
END:VTIMEZONE
BEGIN:VEVENT
DTSTART;TZID=America/Denver:20250601T100000
DTEND;TZID=America/Denver:20250601T170000
DTSTAMP:20260421T094301
CREATED:20250505T235519Z
LAST-MODIFIED:20250505T235519Z
UID:10000730-1748772000-1748797200@anastasia.foundation
SUMMARY:June 1st\, Ringing Cedars Meetup in Arizona with Sarah
DESCRIPTION:Hi\, I am Sarah\, I am a new Arizona Regional Amabassador. It is really exciting and inspiring\, I’m looking forward to helping people in my area connect with one another! \nFrom this adress (13662 S Date Creek Rd\, Congress\, AZ 85332) we will drive together to Robert and Josie’s community. It will be a potluck 🙂 \nSee you there! \nLink to Arizona TG chat: https://t.me/+EnGJ8YVgAZ9hYmYx \nContact details: Sarahmitsuko@yahoo.com 928-862-8000
URL:https://anastasia.foundation/event/june-1st-ringing-cedars-meetup-in-arizona-with-sarah/
LOCATION:Private Residence RSVP\, United States
CATEGORIES:Regional Ambassador Events
ATTACH;FMTTYPE=image/jpeg:https://anastasiafoundation.b-cdn.net/wp-content/uploads/2025/01/chocolatree-organic-eatery-sarah.jpg
ORGANIZER;CN="Sarah Mitsuko":MAILTO:arizona@anastasia.foundation
END:VEVENT
BEGIN:VEVENT
DTSTART;TZID=America/New_York:20250601T130000
DTEND;TZID=America/New_York:20250601T150000
DTSTAMP:20260421T094301
CREATED:20250529T105404Z
LAST-MODIFIED:20250529T105638Z
UID:10001528-1748782800-1748790000@anastasia.foundation
SUMMARY:June 1st\, Ringing Cedars Meetup in Georgia\, Blairsville with Carla
DESCRIPTION:Sunday\, June 1st\n13.00pm EST\nMeeks Park in Blairsville\, GA (Get directions: https://maps.app.goo.gl/ZtPeqiU6ruC4o7VRA) \nHello\, friends! \nI am Carla\, a new Georgia Ambassador. I’d like to host a Ringing Cedars of Russia readers gathering on Sunday\, June 1st at 1 PM\, Eastern Time. \nIt will be at my favorite park in the whole country — Meeks Park in Blairsville\, GA. \nLet’s do a healthy picnic potluck! Bring something yummy from your garden or your favorite snack or cold beverage to share. I’ll bring herbal iced tea and a pie made from homegrown berries. I’d like to discuss topics from the book\, including the gardening methods Anastasia recommends\, as well as start brainstorming on where to look for local land to start up a community! I have a few ideas such as Suches\, GA and Coker Creek\, TN! \nYou can contact me at 706-455-8189 or carlabloom101@yahoo.com for further details. \nLooking forward to seeing your bright souls! \nCarla.
URL:https://anastasia.foundation/event/june-1st-ringing-cedars-meetup-in-georgia-blairsville-with-carla/
LOCATION:Meeks Park in Blairsville\, 490 Meeks Park Rd.\, Blairsville\, GA\, 30512\, United States
CATEGORIES:Regional Ambassador Events
ATTACH;FMTTYPE=image/jpeg:https://anastasiafoundation.b-cdn.net/wp-content/uploads/2025/04/carla-mcmann-e1748501777420.jpg
ORGANIZER;CN="Anastasia Foundation":MAILTO:hello@anastasiausa.land
END:VEVENT
BEGIN:VEVENT
DTSTART;TZID=America/New_York:20250601T160000
DTEND;TZID=America/New_York:20250601T190000
DTSTAMP:20260421T094301
CREATED:20250529T102145Z
LAST-MODIFIED:20250529T105832Z
UID:10000962-1748793600-1748804400@anastasia.foundation
SUMMARY:June 1st\, Ringing Cedars Meetup in Austin\, Texas with Svetlana
DESCRIPTION:Sunday\, June 1st\n16.00pm EST\nCasa de Luz Village\, Austin\, TX (Get directions: https://maps.app.goo.gl/zaYcHzz5eZr29FFH7) \nHey\, inspired souls\, \nI’m Svetlana. I am a Russia-America Relationships Director at Anastasia foundation and a new Texas Ambassador. Some of you might have seen me at our online conferences “Russia-American Exchange”. \nLet’s meet at a public community place at Casa de Luz Village\, Austin\, TX @16.00 pm. We are going to discuss such topics as raising and bringing up kids. Hopefully our fellow reader Robert will come and share his experience of visiting Schetinin’s school in Russia. \nI am looking forward to seeing everybody\, readers and non-readers! \nYou can contact me in Telegram @Svetlanka8085 or 15127387852 \nLove!
URL:https://anastasia.foundation/event/june-1st-ringing-cedars-meetup-in-austin-texas-with-svetlana/
LOCATION:Casa de Luz Village\, 1701 Toomey Rd.\, Austin\, TX\, 78704\, United States
CATEGORIES:Regional Ambassador Events
ATTACH;FMTTYPE=image/jpeg:https://anastasiafoundation.b-cdn.net/wp-content/uploads/2025/05/svetlana-texas-austin-ringing-cedars.jpg
ORGANIZER;CN="Anastasia Foundation":MAILTO:hello@anastasiausa.land
END:VEVENT
BEGIN:VEVENT
DTSTART;TZID=America/Chicago:20250622T160000
DTEND;TZID=America/Chicago:20250622T190000
DTSTAMP:20260421T094301
CREATED:20250618T014022Z
LAST-MODIFIED:20250618T014858Z
UID:10001531-1750608000-1750618800@anastasia.foundation
SUMMARY:June 22nd\, Summer Solstice Ringing Cedars Meetup in Austin\, Texas with Svetlana
DESCRIPTION:Hey\, inspired souls\, \nI’m Svetlana. I am a Russia-America Relationships Director at Anastasia foundation and a new Texas Ambassador. \nLet’s meet at a public community place at Casa de Luz Village\, Austin\, TX @16.00 pm CDT. We are going to celebrate Solstice and discuss the books. I am looking forward to seeing everybody! \nYou can contact me on Telegram @Svetlanka8085 or 15127387852 \nLove!\nSvetlana
URL:https://anastasia.foundation/event/june-22nd-ringing-cedars-meetup-in-austin-texas-with-svetlana-2/
LOCATION:Casa de Luz Village\, 1701 Toomey Rd.\, Austin\, TX\, 78704\, United States
CATEGORIES:Regional Ambassador Events
ATTACH;FMTTYPE=image/jpeg:https://anastasiafoundation.b-cdn.net/wp-content/uploads/2025/06/photo_2025-02-24_02-24-32-e1750196913273.jpg
ORGANIZER;CN="Anastasia Foundation":MAILTO:hello@anastasiausa.land
END:VEVENT
END:VCALENDAR