BEGIN:VCALENDAR
VERSION:2.0
PRODID:-//Ringing Cedars of Russia USA + Canada | Anastasia Foundation - ECPv6.15.17.1//NONSGML v1.0//EN
CALSCALE:GREGORIAN
METHOD:PUBLISH
X-WR-CALNAME:Ringing Cedars of Russia USA + Canada | Anastasia Foundation
X-ORIGINAL-URL:https://anastasia.foundation
X-WR-CALDESC:Events for Ringing Cedars of Russia USA + Canada | Anastasia Foundation
REFRESH-INTERVAL;VALUE=DURATION:PT1H
X-Robots-Tag:noindex
X-PUBLISHED-TTL:PT1H
BEGIN:VTIMEZONE
TZID:America/Denver
BEGIN:DAYLIGHT
TZOFFSETFROM:-0700
TZOFFSETTO:-0600
TZNAME:MDT
DTSTART:20240310T090000
END:DAYLIGHT
BEGIN:STANDARD
TZOFFSETFROM:-0600
TZOFFSETTO:-0700
TZNAME:MST
DTSTART:20241103T080000
END:STANDARD
BEGIN:DAYLIGHT
TZOFFSETFROM:-0700
TZOFFSETTO:-0600
TZNAME:MDT
DTSTART:20250309T090000
END:DAYLIGHT
BEGIN:STANDARD
TZOFFSETFROM:-0600
TZOFFSETTO:-0700
TZNAME:MST
DTSTART:20251102T080000
END:STANDARD
BEGIN:DAYLIGHT
TZOFFSETFROM:-0700
TZOFFSETTO:-0600
TZNAME:MDT
DTSTART:20260308T090000
END:DAYLIGHT
BEGIN:STANDARD
TZOFFSETFROM:-0600
TZOFFSETTO:-0700
TZNAME:MST
DTSTART:20261101T080000
END:STANDARD
END:VTIMEZONE
BEGIN:VTIMEZONE
TZID:America/New_York
BEGIN:DAYLIGHT
TZOFFSETFROM:-0500
TZOFFSETTO:-0400
TZNAME:EDT
DTSTART:20240310T070000
END:DAYLIGHT
BEGIN:STANDARD
TZOFFSETFROM:-0400
TZOFFSETTO:-0500
TZNAME:EST
DTSTART:20241103T060000
END:STANDARD
BEGIN:DAYLIGHT
TZOFFSETFROM:-0500
TZOFFSETTO:-0400
TZNAME:EDT
DTSTART:20250309T070000
END:DAYLIGHT
BEGIN:STANDARD
TZOFFSETFROM:-0400
TZOFFSETTO:-0500
TZNAME:EST
DTSTART:20251102T060000
END:STANDARD
BEGIN:DAYLIGHT
TZOFFSETFROM:-0500
TZOFFSETTO:-0400
TZNAME:EDT
DTSTART:20260308T070000
END:DAYLIGHT
BEGIN:STANDARD
TZOFFSETFROM:-0400
TZOFFSETTO:-0500
TZNAME:EST
DTSTART:20261101T060000
END:STANDARD
END:VTIMEZONE
BEGIN:VEVENT
DTSTART;TZID=America/Denver:20250406T110000
DTEND;TZID=America/Denver:20250406T160000
DTSTAMP:20260421T131005
CREATED:20250320T024619Z
LAST-MODIFIED:20250320T024619Z
UID:10001526-1743937200-1743955200@anastasia.foundation
SUMMARY:April 6th\, Ringing Cedars Meetup in Arizona\, Sedona\, with Sarah
DESCRIPTION:Hi\, I am Sarah\, I am a new Arizona Regional Amabassador. It is really exciting and inspiring\, I’m looking forward to helping people in my area connect with one another! \nFor a long time I’ve been waiting for someone organize this\, I didn’t know that this whole time I was the someone I was waiting for! Thanks so much for encouraging me toward this 🙂 \nA couple of years ago I got my land and started working on it. I took a trip to Russia\, where I lived for about a year. There I visited the Dolmens and several Kin’s Domain Settlements. If you would like to read more about that adventure you can at www.myrussiaadventure.wordpress.com \nThe woman who introduced me to the Ringing Cedars about 10 years ago owns a restaurant in Sedona with a beautiful Anastasia Inspired Garden. It’s a great place to meet and chat. I’m really excited! See you there! \nContact details: Sarahmitsuko@yahoo.com 928-862-8000
URL:https://anastasia.foundation/event/april-6th-ringing-cedars-meetup-in-arizona-sedona-with-sarah/
LOCATION:Chocolatree Organic Eatery\, 595 AZ-89A\, Sedona\, AZ 86336\, Sedona\, AZ\, United States
CATEGORIES:Regional Ambassador Events
ATTACH;FMTTYPE=image/jpeg:https://anastasiafoundation.b-cdn.net/wp-content/uploads/2025/01/chocolatree-organic-eatery-sarah.jpg
ORGANIZER;CN="Sarah Mitsuko":MAILTO:arizona@anastasia.foundation
END:VEVENT
BEGIN:VEVENT
DTSTART;TZID=America/New_York:20250412T130000
DTEND;TZID=America/New_York:20250412T160000
DTSTAMP:20260421T131005
CREATED:20250409T020011Z
LAST-MODIFIED:20250409T020011Z
UID:10001527-1744462800-1744473600@anastasia.foundation
SUMMARY:April 12th\, Asheville Book Club Meeting\, North Carolina
DESCRIPTION:Happy Spring Everyone! \nIt was so lovely to be outside for our last gathering. And the bird sanctuary was busy with Avian activity! Our next gathering will be April 12 from 1:00-4:00. It will be at the bird sanctuary on Beaver Lake again\, next door the the N. Asheville Library unless it’s cold or rainy and then we will use the lovely group room at the Library. I will post directions on the door of the library and the entrance to the bird sanctuary and email the group closer to our meeting time. \nLove\, Miriah Feehery \nMy email is Miriah.Lea@protonmail.com
URL:https://anastasia.foundation/event/april-12th-asheville-book-club-meeting-north-carolina/
LOCATION:North Asheville Library\, 1030 Merrimon Ave\, Asheville\, NC 28804\, Asheville\, NC\, 28804\, United States
CATEGORIES:Regional Ambassador Events
ATTACH;FMTTYPE=image/jpeg:https://anastasiafoundation.b-cdn.net/wp-content/uploads/2025/01/photo_2025-01-19_01-01-25-e1742421651859.jpg
ORGANIZER;CN="Anastasia Foundation":MAILTO:hello@anastasiausa.land
END:VEVENT
END:VCALENDAR