BEGIN:VCALENDAR
VERSION:2.0
PRODID:-//Ringing Cedars of Russia USA + Canada | Anastasia Foundation - ECPv6.15.17.1//NONSGML v1.0//EN
CALSCALE:GREGORIAN
METHOD:PUBLISH
X-ORIGINAL-URL:https://anastasia.foundation
X-WR-CALDESC:Events for Ringing Cedars of Russia USA + Canada | Anastasia Foundation
REFRESH-INTERVAL;VALUE=DURATION:PT1H
X-Robots-Tag:noindex
X-PUBLISHED-TTL:PT1H
BEGIN:VTIMEZONE
TZID:America/Chicago
BEGIN:DAYLIGHT
TZOFFSETFROM:-0600
TZOFFSETTO:-0500
TZNAME:CDT
DTSTART:20240310T080000
END:DAYLIGHT
BEGIN:STANDARD
TZOFFSETFROM:-0500
TZOFFSETTO:-0600
TZNAME:CST
DTSTART:20241103T070000
END:STANDARD
BEGIN:DAYLIGHT
TZOFFSETFROM:-0600
TZOFFSETTO:-0500
TZNAME:CDT
DTSTART:20250309T080000
END:DAYLIGHT
BEGIN:STANDARD
TZOFFSETFROM:-0500
TZOFFSETTO:-0600
TZNAME:CST
DTSTART:20251102T070000
END:STANDARD
BEGIN:DAYLIGHT
TZOFFSETFROM:-0600
TZOFFSETTO:-0500
TZNAME:CDT
DTSTART:20260308T080000
END:DAYLIGHT
BEGIN:STANDARD
TZOFFSETFROM:-0500
TZOFFSETTO:-0600
TZNAME:CST
DTSTART:20261101T070000
END:STANDARD
END:VTIMEZONE
BEGIN:VTIMEZONE
TZID:America/Los_Angeles
BEGIN:DAYLIGHT
TZOFFSETFROM:-0800
TZOFFSETTO:-0700
TZNAME:PDT
DTSTART:20240310T100000
END:DAYLIGHT
BEGIN:STANDARD
TZOFFSETFROM:-0700
TZOFFSETTO:-0800
TZNAME:PST
DTSTART:20241103T090000
END:STANDARD
BEGIN:DAYLIGHT
TZOFFSETFROM:-0800
TZOFFSETTO:-0700
TZNAME:PDT
DTSTART:20250309T100000
END:DAYLIGHT
BEGIN:STANDARD
TZOFFSETFROM:-0700
TZOFFSETTO:-0800
TZNAME:PST
DTSTART:20251102T090000
END:STANDARD
BEGIN:DAYLIGHT
TZOFFSETFROM:-0800
TZOFFSETTO:-0700
TZNAME:PDT
DTSTART:20260308T100000
END:DAYLIGHT
BEGIN:STANDARD
TZOFFSETFROM:-0700
TZOFFSETTO:-0800
TZNAME:PST
DTSTART:20261101T090000
END:STANDARD
END:VTIMEZONE
BEGIN:VEVENT
DTSTART;TZID=America/Chicago:20250322T140000
DTEND;TZID=America/Chicago:20250322T170000
DTSTAMP:20260421T144147
CREATED:20250320T020850Z
LAST-MODIFIED:20250320T021430Z
UID:10001522-1742652000-1742662800@anastasia.foundation
SUMMARY:March 22nd\, Tennessee Ringing Cedars Readers Gathering\, Knoxville
DESCRIPTION:Greetings Dear Readers! \nWe are having our first meetup of 2025!\nCome celebrate Spring in her full swing and connect with other readers and friends nearby! This will be a potluck gathering so please bring a dish or snack you love to share!\nPlease contact Ruth DeVors for the address/directions. \nEmail: readersoftennessse@gmail.com\nTelegram: @ruth_1777 \nGratitude for your bright thoughts\,\n-Ruth
URL:https://anastasia.foundation/event/march-22nd-tennessee-ringing-cedars-readers-gathering-knoxville/
LOCATION:Private Residence RSVP\, United States
CATEGORIES:Regional Ambassador Events
ATTACH;FMTTYPE=image/jpeg:https://anastasiafoundation.b-cdn.net/wp-content/uploads/2025/03/tennessee-ringing-cedars-meetup-50-e1742422457884.jpg
END:VEVENT
BEGIN:VEVENT
DTSTART;TZID=America/Los_Angeles:20250330T180000
DTEND;TZID=America/Los_Angeles:20250330T210000
DTSTAMP:20260421T144147
CREATED:20250320T023133Z
LAST-MODIFIED:20250320T023530Z
UID:10001525-1743357600-1743368400@anastasia.foundation
SUMMARY:March 30th\, Southern California Ringing Cedars Online Meetup with Vladi
DESCRIPTION:SouthernCalifornia Ringing Cedars Online Meetup – March 30th (Zoom)\nDate: Sunday\, March 30th\nTime: 6pm-8pm PST\nLocation: Zoom (link provided upon RSVP) \nJoin Us to Co-Create the Future of Kin Domains in SoCal!\nThis online meetup is for those who are ready to explore\, discuss\, and take action toward establishing Kin Domain Settlements (KDS) in Southern California. Whether you’re looking for land\, seeking a community\, or interested in ways to support this vision\, this call will help move ideas forward. \nWhat We’ll Discuss:\nWhere Should We Establish KDS in SoCal?\nExploring 3-5 potential locations between:\nLA & SF (San Luis Obispo County)\nLA & SD (near Palomar or Caspers Wilderness Park)\nRegular Online Meetups – Help decide the best day to meet consistently for planning and support.\nFinancing Our Future Kin Domains – Exploring funding ideas such as:\nRetreat centers\nAirbnb models\nSustainable farms & food co-ops\nPlanning Our Next In-Person Meetup – Let’s set a date for gathering in person in the LA area!\nBook & Homestead 2.0 Discussion – Share your favorite Ringing Cedars insights and discuss the Homestead 2.0 idea as a modern Kin Domain Settlement model in the USA.\nWho Should Join?\n✔️ Anyone dreaming of living on a Kin Domain in California\n✔️ Those interested in co-creating land-based communities\n✔️ People exploring off-grid\, regenerative\, and self-sufficient lifestyles\n✔️ Readers of the Ringing Cedars books looking for actionable steps \nRSVP NOW\nOnline Meetup (March 30th on Zoom) – Get the link upon registration! \nQuestions? Reach out to vladiforest@gmail.com \nRegister Here: https://www.eventbrite.com/e/socal-ringing-cedars-online-meetup-march-30th-zoom-tickets-1279672377529?aff=oddtdtcreator \nLet’s co-create a future of love\, abundance\, and thriving Kin Domains in SoCal!
URL:https://anastasia.foundation/event/march-30th-south-california-ringing-cedars-online-meetup-with-vladi/
CATEGORIES:Regional Ambassador Events
ATTACH;FMTTYPE=image/jpeg:https://anastasiafoundation.b-cdn.net/wp-content/uploads/2025/03/March-30-South-california-Ringing-cedars-3.jpg
ORGANIZER;CN="Anastasia Foundation":MAILTO:hello@anastasiausa.land
END:VEVENT
END:VCALENDAR