BEGIN:VCALENDAR
VERSION:2.0
PRODID:-//Ringing Cedars of Russia USA + Canada | Anastasia Foundation - ECPv6.15.17.1//NONSGML v1.0//EN
CALSCALE:GREGORIAN
METHOD:PUBLISH
X-WR-CALNAME:Ringing Cedars of Russia USA + Canada | Anastasia Foundation
X-ORIGINAL-URL:https://anastasia.foundation
X-WR-CALDESC:Events for Ringing Cedars of Russia USA + Canada | Anastasia Foundation
REFRESH-INTERVAL;VALUE=DURATION:PT1H
X-Robots-Tag:noindex
X-PUBLISHED-TTL:PT1H
BEGIN:VTIMEZONE
TZID:America/New_York
BEGIN:DAYLIGHT
TZOFFSETFROM:-0500
TZOFFSETTO:-0400
TZNAME:EDT
DTSTART:20240310T070000
END:DAYLIGHT
BEGIN:STANDARD
TZOFFSETFROM:-0400
TZOFFSETTO:-0500
TZNAME:EST
DTSTART:20241103T060000
END:STANDARD
BEGIN:DAYLIGHT
TZOFFSETFROM:-0500
TZOFFSETTO:-0400
TZNAME:EDT
DTSTART:20250309T070000
END:DAYLIGHT
BEGIN:STANDARD
TZOFFSETFROM:-0400
TZOFFSETTO:-0500
TZNAME:EST
DTSTART:20251102T060000
END:STANDARD
BEGIN:DAYLIGHT
TZOFFSETFROM:-0500
TZOFFSETTO:-0400
TZNAME:EDT
DTSTART:20260308T070000
END:DAYLIGHT
BEGIN:STANDARD
TZOFFSETFROM:-0400
TZOFFSETTO:-0500
TZNAME:EST
DTSTART:20261101T060000
END:STANDARD
END:VTIMEZONE
BEGIN:VEVENT
DTSTART;TZID=America/New_York:20250517T100000
DTEND;TZID=America/New_York:20250517T130000
DTSTAMP:20260424T064910
CREATED:20250505T234022Z
LAST-MODIFIED:20250505T234022Z
UID:10000727-1747476000-1747486800@anastasia.foundation
SUMMARY:May 17th\, Asheville Book Club Meeting\, North Carolina
DESCRIPTION:Hello dear readers! \nOur next gathering is May 17th at the North Asheville Library from 10:00AM until 1:00PM. We will share our enthusiasm for book 2. See you then! \nLove\, Miriah Feehery \nMy email is Miriah.Lea@protonmail.com
URL:https://anastasia.foundation/event/may-17th-asheville-book-club-meeting-north-carolina/
LOCATION:North Asheville Library\, 1030 Merrimon Ave\, Asheville\, NC 28804\, Asheville\, NC\, 28804\, United States
CATEGORIES:Readers' Groups
ATTACH;FMTTYPE=image/jpeg:https://anastasiafoundation.b-cdn.net/wp-content/uploads/2025/01/photo_2025-01-19_01-01-25-e1742421651859.jpg
ORGANIZER;CN="Anastasia Foundation":MAILTO:hello@anastasiausa.land
END:VEVENT
END:VCALENDAR