BEGIN:VCALENDAR
VERSION:2.0
PRODID:-//Ringing Cedars of Russia USA + Canada | Anastasia Foundation - ECPv6.15.17.1//NONSGML v1.0//EN
CALSCALE:GREGORIAN
METHOD:PUBLISH
X-WR-CALNAME:Ringing Cedars of Russia USA + Canada | Anastasia Foundation
X-ORIGINAL-URL:https://anastasia.foundation
X-WR-CALDESC:Events for Ringing Cedars of Russia USA + Canada | Anastasia Foundation
REFRESH-INTERVAL;VALUE=DURATION:PT1H
X-Robots-Tag:noindex
X-PUBLISHED-TTL:PT1H
BEGIN:VTIMEZONE
TZID:America/New_York
BEGIN:DAYLIGHT
TZOFFSETFROM:-0500
TZOFFSETTO:-0400
TZNAME:EDT
DTSTART:20230312T070000
END:DAYLIGHT
BEGIN:STANDARD
TZOFFSETFROM:-0400
TZOFFSETTO:-0500
TZNAME:EST
DTSTART:20231105T060000
END:STANDARD
BEGIN:DAYLIGHT
TZOFFSETFROM:-0500
TZOFFSETTO:-0400
TZNAME:EDT
DTSTART:20240310T070000
END:DAYLIGHT
BEGIN:STANDARD
TZOFFSETFROM:-0400
TZOFFSETTO:-0500
TZNAME:EST
DTSTART:20241103T060000
END:STANDARD
BEGIN:DAYLIGHT
TZOFFSETFROM:-0500
TZOFFSETTO:-0400
TZNAME:EDT
DTSTART:20250309T070000
END:DAYLIGHT
BEGIN:STANDARD
TZOFFSETFROM:-0400
TZOFFSETTO:-0500
TZNAME:EST
DTSTART:20251102T060000
END:STANDARD
END:VTIMEZONE
BEGIN:VEVENT
DTSTART;TZID=America/New_York:20240621T180000
DTEND;TZID=America/New_York:20240621T193000
DTSTAMP:20260424T052919
CREATED:20240606T185442Z
LAST-MODIFIED:20240606T191120Z
UID:10001470-1718992800-1718998200@anastasia.foundation
SUMMARY:North America Ringing Cedars Community Call
DESCRIPTION:✅ Meet other passionate Ringing Cedars readers from across North America and abroad\n✅ Openly discuss the Ringing Cedars books and other inspiring related topics\n✅ Share stories and experiences\, make new connections\n✅ Enjoy a time of spiritual fellowship with other Ringing Cedars readers\n✅ Leave the call inspired and uplifted! \nThere’s always a great group of folks on and the discussion is a blast (most people don’t want the calls to end). We usually have 20-30+ people on each call. This is a space where you can speak freely\, be amongst like-minds\, and feel comfortable. Feels like home. Come join your spiritual family! \nYou can bring questions\, topics\, experiences\, and more that you would like to discuss with the group! \nI like to open these calls with a short inspiring talk on a Ringing Cedars related topic to get the discussion going\, and the discussion take form from there! \nJoin us via Zoom: https://us06web.zoom.us/j/82561799773?pwd=lxmbLbr5oc0hvD32J7cP6qKO8gYn0f.1\nMeeting ID: 825 6179 9773\nPassword: lxmbLbr5oc0hvD32J7cP6qKO8gYn0f.1\nPasscode: anastasia \nConvert to your time zone here. \nI’m excited to see you\, thank you for joining us. \n*Calls are recorded and shared on YouTube for the benefit and upliftment of others.
URL:https://anastasia.foundation/event/north-america-ringing-cedars-community-call/
LOCATION:Zoom\, United States
CATEGORIES:North America
ATTACH;FMTTYPE=image/png:https://anastasiafoundation.b-cdn.net/wp-content/uploads/2024/06/YouTube-North-America-Readers-Call.png
END:VEVENT
END:VCALENDAR