BEGIN:VCALENDAR
VERSION:2.0
PRODID:-//Ringing Cedars of Russia USA + Canada | Anastasia Foundation - ECPv6.15.17.1//NONSGML v1.0//EN
CALSCALE:GREGORIAN
METHOD:PUBLISH
X-WR-CALNAME:Ringing Cedars of Russia USA + Canada | Anastasia Foundation
X-ORIGINAL-URL:https://anastasia.foundation
X-WR-CALDESC:Events for Ringing Cedars of Russia USA + Canada | Anastasia Foundation
REFRESH-INTERVAL;VALUE=DURATION:PT1H
X-Robots-Tag:noindex
X-PUBLISHED-TTL:PT1H
BEGIN:VTIMEZONE
TZID:America/New_York
BEGIN:DAYLIGHT
TZOFFSETFROM:-0500
TZOFFSETTO:-0400
TZNAME:EDT
DTSTART:20230312T070000
END:DAYLIGHT
BEGIN:STANDARD
TZOFFSETFROM:-0400
TZOFFSETTO:-0500
TZNAME:EST
DTSTART:20231105T060000
END:STANDARD
BEGIN:DAYLIGHT
TZOFFSETFROM:-0500
TZOFFSETTO:-0400
TZNAME:EDT
DTSTART:20240310T070000
END:DAYLIGHT
BEGIN:STANDARD
TZOFFSETFROM:-0400
TZOFFSETTO:-0500
TZNAME:EST
DTSTART:20241103T060000
END:STANDARD
BEGIN:DAYLIGHT
TZOFFSETFROM:-0500
TZOFFSETTO:-0400
TZNAME:EDT
DTSTART:20250309T070000
END:DAYLIGHT
BEGIN:STANDARD
TZOFFSETFROM:-0400
TZOFFSETTO:-0500
TZNAME:EST
DTSTART:20251102T060000
END:STANDARD
END:VTIMEZONE
BEGIN:VEVENT
DTSTART;TZID=America/New_York:20240427T100000
DTEND;TZID=America/New_York:20240428T150000
DTSTAMP:20260421T153349
CREATED:20240413T203517Z
LAST-MODIFIED:20240413T203744Z
UID:10001469-1714212000-1714316400@anastasia.foundation
SUMMARY:Russia-America Exchange 4 & 5: Two Kin's Domain Settlements
DESCRIPTION:Learn from some of the most knowledgeable\, successful and inspiring Russian Kin’s Domain Settlement founders. \nThis time\, we’ve got a special double event: two days with two successful  Settlements! \nOur speakers will each spend around ~1.5 hours on their presentation\, and the remaining time will be dedicated to Q&A with the audience! \nThis is a priceless opportunity to connect with experienced Settlement founders from Russia — don’t miss it! \nMORE DETAILS ARE ON THE EVENT PAGE HERE.\n 
URL:https://anastasia.foundation/event/russia-america-exchange-4-5-two-kins-domain-settlements/
LOCATION:Zoom\, United States
CATEGORIES:Russia-America Exchange
ATTACH;FMTTYPE=image/jpeg:https://anastasiafoundation.b-cdn.net/wp-content/uploads/2024/04/RAE-4-and-5-Thumbnail-2x.jpg
ORGANIZER;CN="Anastasia Foundation":MAILTO:hello@anastasiausa.land
END:VEVENT
END:VCALENDAR