BEGIN:VCALENDAR
VERSION:2.0
PRODID:-//Ringing Cedars of Russia USA + Canada | Anastasia Foundation - ECPv6.15.17.1//NONSGML v1.0//EN
CALSCALE:GREGORIAN
METHOD:PUBLISH
X-WR-CALNAME:Ringing Cedars of Russia USA + Canada | Anastasia Foundation
X-ORIGINAL-URL:https://anastasia.foundation
X-WR-CALDESC:Events for Ringing Cedars of Russia USA + Canada | Anastasia Foundation
REFRESH-INTERVAL;VALUE=DURATION:PT1H
X-Robots-Tag:noindex
X-PUBLISHED-TTL:PT1H
BEGIN:VTIMEZONE
TZID:America/New_York
BEGIN:DAYLIGHT
TZOFFSETFROM:-0500
TZOFFSETTO:-0400
TZNAME:EDT
DTSTART:20230312T070000
END:DAYLIGHT
BEGIN:STANDARD
TZOFFSETFROM:-0400
TZOFFSETTO:-0500
TZNAME:EST
DTSTART:20231105T060000
END:STANDARD
BEGIN:DAYLIGHT
TZOFFSETFROM:-0500
TZOFFSETTO:-0400
TZNAME:EDT
DTSTART:20240310T070000
END:DAYLIGHT
BEGIN:STANDARD
TZOFFSETFROM:-0400
TZOFFSETTO:-0500
TZNAME:EST
DTSTART:20241103T060000
END:STANDARD
BEGIN:DAYLIGHT
TZOFFSETFROM:-0500
TZOFFSETTO:-0400
TZNAME:EDT
DTSTART:20250309T070000
END:DAYLIGHT
BEGIN:STANDARD
TZOFFSETFROM:-0400
TZOFFSETTO:-0500
TZNAME:EST
DTSTART:20251102T060000
END:STANDARD
END:VTIMEZONE
BEGIN:VEVENT
DTSTART;TZID=America/New_York:20240420T120000
DTEND;TZID=America/New_York:20240420T163000
DTSTAMP:20260421T122042
CREATED:20240407T013625Z
LAST-MODIFIED:20240418T212328Z
UID:10001468-1713614400-1713630600@anastasia.foundation
SUMMARY:Asheville\, North Carolina Ringing Cedars Meetup\, with Gabriel
DESCRIPTION:UPDATE from April 18th: The date for this meetup has been moved to Saturday the 20th\, due to rainy & cold weather on the Sunday the 21st. Times have also been updated! \nDate:  Sunday\, April 20th \nTime:  12pm – 4:30pm EST \nLocation: French Broad River Park — 508 Riverview Dr\, Asheville\, NC 28806 (Get Directions) \nDescription: Meet other Ringing Cedars of Russia readers in the Asheville\, North Carolina area! The goal is to meet and connect\, and start to build a community of readers in the area. The meetup will be relaxed and casual\, hosted outside in the beautiful French Broad River park in Asheville. Expect free flowing conversation for a few hours\, nothing fancy! \n  \n\n		\n		\n			\n				\n			\n			\n				\n			\n		\n\n  \nEvent Notes\n1. Seating and Comfort: Please bring your own chairs or blankets to sit on\, if you desire. \n2. Food and Drinks: BYO snacks and drinks. \n3. Finding Us: Look for the Anastasia Foundation banner and table. \nSee you there! \n\nGabriel Miguel
URL:https://anastasia.foundation/event/asheville-north-carolina-ringing-cedars-meetup-with-gabriel-april-20th-2024/
CATEGORIES:Regional Ambassador Events
ATTACH;FMTTYPE=image/jpeg:https://anastasiafoundation.b-cdn.net/wp-content/uploads/2024/04/04.20.24-Gabriel-Asheville-NC-Meetup-Thumbnail.jpg
END:VEVENT
END:VCALENDAR