BEGIN:VCALENDAR
VERSION:2.0
PRODID:-//Ringing Cedars of Russia USA + Canada | Anastasia Foundation - ECPv6.15.17.1//NONSGML v1.0//EN
CALSCALE:GREGORIAN
METHOD:PUBLISH
X-WR-CALNAME:Ringing Cedars of Russia USA + Canada | Anastasia Foundation
X-ORIGINAL-URL:https://anastasia.foundation
X-WR-CALDESC:Events for Ringing Cedars of Russia USA + Canada | Anastasia Foundation
REFRESH-INTERVAL;VALUE=DURATION:PT1H
X-Robots-Tag:noindex
X-PUBLISHED-TTL:PT1H
BEGIN:VTIMEZONE
TZID:America/New_York
BEGIN:DAYLIGHT
TZOFFSETFROM:-0500
TZOFFSETTO:-0400
TZNAME:EDT
DTSTART:20240310T070000
END:DAYLIGHT
BEGIN:STANDARD
TZOFFSETFROM:-0400
TZOFFSETTO:-0500
TZNAME:EST
DTSTART:20241103T060000
END:STANDARD
BEGIN:DAYLIGHT
TZOFFSETFROM:-0500
TZOFFSETTO:-0400
TZNAME:EDT
DTSTART:20250309T070000
END:DAYLIGHT
BEGIN:STANDARD
TZOFFSETFROM:-0400
TZOFFSETTO:-0500
TZNAME:EST
DTSTART:20251102T060000
END:STANDARD
BEGIN:DAYLIGHT
TZOFFSETFROM:-0500
TZOFFSETTO:-0400
TZNAME:EDT
DTSTART:20260308T070000
END:DAYLIGHT
BEGIN:STANDARD
TZOFFSETFROM:-0400
TZOFFSETTO:-0500
TZNAME:EST
DTSTART:20261101T060000
END:STANDARD
END:VTIMEZONE
BEGIN:VEVENT
DTSTART;TZID=America/New_York:20250920T120000
DTEND;TZID=America/New_York:20250920T120000
DTSTAMP:20260421T110049
CREATED:20250823T232244Z
LAST-MODIFIED:20250824T063717Z
UID:10001543-1758369600-1758369600@anastasia.foundation
SUMMARY:Pittsboro\, (Central) North Carolina  — Reader's Gathering
DESCRIPTION:**Reader-hosted\, non-Foundation event** \nSat September 20\, 2025\n⏰ 12 PM\nCool Creek Farm\, 738 Castle Rock Farm Road\, Pittsboro\, NC\, 27312 (Google Maps directions) \nPlease consider coming to our farm on Saturday 9/20 to gather and enjoy the changing seasons! I’m excited to meet people in person. We welcome you to camp out and if staying for a couple nights makes the travel easier please feel free to do so. \nI hope this gathering will bring together Ringing Cedar enthusiasts throughout the southeast but maybe we will get people farther out too! \nArrival & schedule \n\nYou could show up any time from 12 pm to dark on Friday 9/19 and stay through Sunday 9/21.\nFor those of you who just want to do a day trip or just want to stay the night of the 20th show up around 12 pm on Saturday.\nI’m thinking the main gathering will happen midday through evening on 9/20.\nWeather permitting\, we can have a bonfire.\n\nAmenities \n\nWe have well water filtered and unfiltered.\nWe can offer hose/bucket baths\, outhouse\, electricity\, bon fire pit\, tables\, chairs\, extra coolers and 2 two-burner camp stoves.\nWe have trails and lots of open space for activities.\n\nAnimals on the farm: There are horses\, goats\, sheep\, cats\, chickens\, and ducks on our farm. \nDistances from nearby cities \n\nChapel Hill — 17 miles\nDurham — 25 mi\nRaleigh — 34 mi\n\nEvent leads: Marinne (amfdancer8@gmail.com) and Melissa Frey (919-710-6696)
URL:https://anastasia.foundation/event/pittsboro-central-north-carolina-readers-gathering/
LOCATION:Cool Creek Farm\, Pittsboro\, NC\, 738 Castle Rock Farm Road\, Pittsboro\, 27312\, United States
CATEGORIES:Reader's Meetups (Non-Foundation)
ATTACH;FMTTYPE=image/jpeg:https://anastasiafoundation.b-cdn.net/wp-content/uploads/2025/08/cool-creek-farm-1-1.jpg
END:VEVENT
END:VCALENDAR